BEGIN:VCALENDAR
VERSION:2.0
PRODID:-//RootsYoga - ECPv6.15.14//NONSGML v1.0//EN
CALSCALE:GREGORIAN
METHOD:PUBLISH
X-WR-CALNAME:RootsYoga
X-ORIGINAL-URL:https://www.rootsyoga.de
X-WR-CALDESC:Veranstaltungen für RootsYoga
REFRESH-INTERVAL;VALUE=DURATION:PT1H
X-Robots-Tag:noindex
X-PUBLISHED-TTL:PT1H
BEGIN:VTIMEZONE
TZID:Europe/Berlin
BEGIN:DAYLIGHT
TZOFFSETFROM:+0100
TZOFFSETTO:+0200
TZNAME:CEST
DTSTART:20240331T010000
END:DAYLIGHT
BEGIN:STANDARD
TZOFFSETFROM:+0200
TZOFFSETTO:+0100
TZNAME:CET
DTSTART:20241027T010000
END:STANDARD
BEGIN:DAYLIGHT
TZOFFSETFROM:+0100
TZOFFSETTO:+0200
TZNAME:CEST
DTSTART:20250330T010000
END:DAYLIGHT
BEGIN:STANDARD
TZOFFSETFROM:+0200
TZOFFSETTO:+0100
TZNAME:CET
DTSTART:20251026T010000
END:STANDARD
BEGIN:DAYLIGHT
TZOFFSETFROM:+0100
TZOFFSETTO:+0200
TZNAME:CEST
DTSTART:20260329T010000
END:DAYLIGHT
BEGIN:STANDARD
TZOFFSETFROM:+0200
TZOFFSETTO:+0100
TZNAME:CET
DTSTART:20261025T010000
END:STANDARD
END:VTIMEZONE
BEGIN:VEVENT
DTSTART;TZID=Europe/Berlin:20250914T110000
DTEND;TZID=Europe/Berlin:20250914T123000
DTSTAMP:20260421T044118
CREATED:20250317T121943Z
LAST-MODIFIED:20250317T121943Z
UID:10000158-1757847600-1757853000@www.rootsyoga.de
SUMMARY:Jivamukti Open mit Dana (VOR ORT)
DESCRIPTION:Eine Jivamukti Open Klasse beinhaltet dynamische und physisch herausfordernde Vinyasa Sequenzen\, bewusste Führung des Atems – unterstützt von den Anleitungen und Assists des Lehrers. Die Yogahaltungen (Asanas) haben dabei unterschiedliche Schwierigkeitsgrade für Beginner und Fortgeschrittene. In jeder Open Stunde wird Musik gespielt\, werden traditionelle Schriften rezitiert\, gemeinsam Mantra gesungen (gechantet) und meditiert. \nIn der Open Class\, wie sie auch genannt wird\, werden klassische Yoga-Lehren aufgegriffen und für unser modernes Leben verständlich gemacht. Die Inspirationen dazu liefert der Focus of the Month (Fokus des Monats) – ein Essay\, der monatlich erscheint und jeweils von einer:m Senior-Lehrer:in der Jivamukti Methode geschrieben worden ist. Die Jivamukti Open Klassen sind für jede/jeden geeignet\, egal ob du seit 20 Jahren praktizierst\, oder dich dein Weg gerade erst zum Yoga geführt hat. \nDana ist 800+h Advanced Certified Jivamukti Lehrerin und lebt in Berlin\, wo sie täglich Yoga unterrichtet\, wenn sie nicht gerade Workshops oder Retreats leitet. Als Mentorin im Jivamukti Apprenticeship Program unterrichtet sie mit Leidenschaft und Herzlichkeit. Ihre eigene Praxis umfasst Jivamukti\, Ashtanga\, Breathwork\, Meditation und Krafttraining\, was sie in ihren Unterricht integriert. Besonders wichtig sind ihr Authentizität und der Bezug zur eigenen Erfahrung. Dana setzt sich u.a. für einen bewussteren Umgang mit Stress in unserer schnelllebigen Arbeitswelt ein und hat selbst jahrelange Erfahrung als Beraterin in Unternehmen und ist damit auch bis heute aktiv. Sie hatte gemeinsam mit zwei Kollegen das Podcast Projekt “Wake Up Wind Down”\, bei dem täglich geführte Meditationen veröffentlicht wurden. Sie lebt nach den Prinzipien des Yoga und mit einer guten Portion Humor. Ihre Klassen sind kraftvoll\, intensiv und immer begleitet von sorgfältig ausgewählter Musik. \nPreise: \n\nDropIn (Vor Ort): 25€\nDropIn (Online): 7\,50€\nProbewochen (einmalig für 2 Wochen): 39\,00€\n10er-Karte VOR ORT (3 Monate gültig): 179\,00 €\n10er-Karte VOR ORT (6 Monate gültig): 199\,00 €\n10er-Karte ONLINE (3 Monate gültig): 59\,00 €\n10er-Karte ONLINE (4 Jahre gültig): 249\,00 €\n\nStornierungsregeln für Klassen\, Workshops & Events bei Roots Yoga \n\nKlassen können bis zu 24 Stunden vor Beginn storniert werden. In diesem Fall wird die Klasse als Guthaben auf deinem Account gutgeschrieben.\nEine Rückerstattung des Geldes ist nicht möglich – das Guthaben kann jedoch für zukünftige Buchungen genutzt werden.\nNach Abschluss der Buchung ist eine Rückerstattung ausgeschlossen – unabhängig vom Grund der Stornierung.\nBuchungen sind nicht auf Dritte übertragbar und können nur vom ursprünglichen Käufer genutzt werden.\n\nFalls du noch Fragen hast\, melde dich gerne bei uns: hello@rootsyoga.de. \n  \n 
URL:https://www.rootsyoga.de/yoga-event/jivamukti-open-mit-dana-vor-ort-2/
CATEGORIES:Event,Special Guests
ATTACH;FMTTYPE=image/jpeg:https://www.rootsyoga.de/wp-content/uploads/2025/03/Dana-Sertel-Advanced-Teacher-Jivamukti-scaled.jpg
END:VEVENT
BEGIN:VEVENT
DTSTART;TZID=Europe/Berlin:20250914T110000
DTEND;TZID=Europe/Berlin:20250914T123000
DTSTAMP:20260421T044118
CREATED:20250317T122021Z
LAST-MODIFIED:20250324T124209Z
UID:10000159-1757847600-1757853000@www.rootsyoga.de
SUMMARY:Jivamukti Open mit Dana (ONLINE)
DESCRIPTION:Eine Jivamukti Open Klasse beinhaltet dynamische und physisch herausfordernde Vinyasa Sequenzen\, bewusste Führung des Atems – unterstützt von den Anleitungen und Assists des Lehrers. Die Yogahaltungen (Asanas) haben dabei unterschiedliche Schwierigkeitsgrade für Beginner und Fortgeschrittene. In jeder Open Stunde wird Musik gespielt\, werden traditionelle Schriften rezitiert\, gemeinsam Mantra gesungen (gechantet) und meditiert. \nIn der Open Class\, wie sie auch genannt wird\, werden klassische Yoga-Lehren aufgegriffen und für unser modernes Leben verständlich gemacht. Die Inspirationen dazu liefert der Focus of the Month (Fokus des Monats) – ein Essay\, der monatlich erscheint und jeweils von einer:m Senior-Lehrer:in der Jivamukti Methode geschrieben worden ist. Die Jivamukti Open Klassen sind für jede/jeden geeignet\, egal ob du seit 20 Jahren praktizierst\, oder dich dein Weg gerade erst zum Yoga geführt hat. \nDana ist 800+h Advanced Certified Jivamukti Lehrerin und lebt in Berlin\, wo sie täglich Yoga unterrichtet\, wenn sie nicht gerade Workshops oder Retreats leitet. Als Mentorin im Jivamukti Apprenticeship Program unterrichtet sie mit Leidenschaft und Herzlichkeit. Ihre eigene Praxis umfasst Jivamukti\, Ashtanga\, Breathwork\, Meditation und Krafttraining\, was sie in ihren Unterricht integriert. Besonders wichtig sind ihr Authentizität und der Bezug zur eigenen Erfahrung. Dana setzt sich u.a. für einen bewussteren Umgang mit Stress in unserer schnelllebigen Arbeitswelt ein und hat selbst jahrelange Erfahrung als Beraterin in Unternehmen und ist damit auch bis heute aktiv. Sie hatte gemeinsam mit zwei Kollegen das Podcast Projekt “Wake Up Wind Down”\, bei dem täglich geführte Meditationen veröffentlicht wurden. Sie lebt nach den Prinzipien des Yoga und mit einer guten Portion Humor. Ihre Klassen sind kraftvoll\, intensiv und immer begleitet von sorgfältig ausgewählter Musik. \nPreise: \n\nDropIn (Vor Ort): 25€\nDropIn (Online): 7\,50€\nProbewochen (einmalig für 2 Wochen): 39\,00€\n10er-Karte VOR ORT (3 Monate gültig): 179\,00 €\n10er-Karte VOR ORT (6 Monate gültig): 199\,00 €\n10er-Karte ONLINE (3 Monate gültig): 59\,00 €\n10er-Karte ONLINE (4 Jahre gültig): 249\,00 €\n\nStornierungsregeln für Klassen\, Workshops & Events bei Roots Yoga \n\nKlassen können bis zu 24 Stunden vor Beginn storniert werden. In diesem Fall wird die Klasse als Guthaben auf deinem Account gutgeschrieben.\nEine Rückerstattung des Geldes ist nicht möglich – das Guthaben kann jedoch für zukünftige Buchungen genutzt werden.\nNach Abschluss der Buchung ist eine Rückerstattung ausgeschlossen – unabhängig vom Grund der Stornierung.\nBuchungen sind nicht auf Dritte übertragbar und können nur vom ursprünglichen Käufer genutzt werden.\n\nFalls du noch Fragen hast\, melde dich gerne bei uns: hello@rootsyoga.de. \n  \n 
URL:https://www.rootsyoga.de/yoga-event/jivamukti-open-mit-dana-online-3/
CATEGORIES:Event,Online,Special Guests
ATTACH;FMTTYPE=image/jpeg:https://www.rootsyoga.de/wp-content/uploads/2025/03/Dana-Sertel-Advanced-Teacher-Jivamukti-scaled.jpg
END:VEVENT
BEGIN:VEVENT
DTSTART;TZID=Europe/Berlin:20250914T150000
DTEND;TZID=Europe/Berlin:20250914T160000
DTSTAMP:20260421T044118
CREATED:20250302T103905Z
LAST-MODIFIED:20250815T194841Z
UID:10000143-1757862000-1757865600@www.rootsyoga.de
SUMMARY:Sound Bath mit Ali
DESCRIPTION:Eine Klangmeditation mit Kristallschalen hat auf unseren gesamtem Organismus eine heilende und entspannende Wirkung. Der pure Sound dieser Klangschalen ist in der Lage\, sowohl physisch als auch energetisch unsere Blockaden zu lockern und dadurch Platz für Heilung entstehen zu lassen. Die verschiedenen Vibrationen der Schalen haben durch ihre Zusammensetzung die Fähigkeit unser Unterbewusstsein aufzuwecken. \nBEI MONDPHASEN: Um in den tiefen Kontakt mit sich selbst zu treten\, nutzen wir in den richtigen Phasen die Kraft des Mondes. Bei einem Neumondritual beispielsweise wird der Blick mit Hilfe des Sounds der Klangschalen nach Innen gerichtet\, um danach gestärkt die bevorstehende Mondphase zu beginnen. \nTUNE IN AND ZOOM OUT \nDas Sound Bath findet in einer angenehmen liegenden Position statt. Es ist eine tolle Gelegenheit dem Kopf Leerlauf zu gönnen und Stress vor der Tür zu lassen. \nWir freuen uns auf auf dich!
URL:https://www.rootsyoga.de/yoga-event/sound-bath-fuer-kinder-mit-lou/
LOCATION:Roots Yoga Studio\, Mittelweg 146\, Hamburg\, 20148\, Deutschland
CATEGORIES:Soundbath
ATTACH;FMTTYPE=image/jpeg:https://www.rootsyoga.de/wp-content/uploads/2025/05/BowlsKlangSoundbath-e1747823081604.jpg
END:VEVENT
END:VCALENDAR