BEGIN:VCALENDAR
VERSION:2.0
PRODID:-//RootsYoga - ECPv6.15.14//NONSGML v1.0//EN
CALSCALE:GREGORIAN
METHOD:PUBLISH
X-WR-CALNAME:RootsYoga
X-ORIGINAL-URL:https://www.rootsyoga.de
X-WR-CALDESC:Veranstaltungen für RootsYoga
REFRESH-INTERVAL;VALUE=DURATION:PT1H
X-Robots-Tag:noindex
X-PUBLISHED-TTL:PT1H
BEGIN:VTIMEZONE
TZID:Europe/Berlin
BEGIN:DAYLIGHT
TZOFFSETFROM:+0100
TZOFFSETTO:+0200
TZNAME:CEST
DTSTART:20240331T010000
END:DAYLIGHT
BEGIN:STANDARD
TZOFFSETFROM:+0200
TZOFFSETTO:+0100
TZNAME:CET
DTSTART:20241027T010000
END:STANDARD
BEGIN:DAYLIGHT
TZOFFSETFROM:+0100
TZOFFSETTO:+0200
TZNAME:CEST
DTSTART:20250330T010000
END:DAYLIGHT
BEGIN:STANDARD
TZOFFSETFROM:+0200
TZOFFSETTO:+0100
TZNAME:CET
DTSTART:20251026T010000
END:STANDARD
BEGIN:DAYLIGHT
TZOFFSETFROM:+0100
TZOFFSETTO:+0200
TZNAME:CEST
DTSTART:20260329T010000
END:DAYLIGHT
BEGIN:STANDARD
TZOFFSETFROM:+0200
TZOFFSETTO:+0100
TZNAME:CET
DTSTART:20261025T010000
END:STANDARD
END:VTIMEZONE
BEGIN:VEVENT
DTSTART;TZID=Europe/Berlin:20250926T200000
DTEND;TZID=Europe/Berlin:20250926T210000
DTSTAMP:20260421T060441
CREATED:20250906T155948Z
LAST-MODIFIED:20251013T173355Z
UID:10000215-1758916800-1758920400@www.rootsyoga.de
SUMMARY:Roots Community Satsang & Kirtan (VOR ORT)
DESCRIPTION:Satsang (Sanskrit: सत्सङ्ग satsaṅga m.; Hindi: सत्संग satsaṃg m.; von sat = wahr\, sanga = Umgang) bedeutet übersetzt: Zusammensein mit der Wahrheit. \nAnders formuliert: Beim Satsang wird meistens zusammen Meditiert und Kirtan gesungen (Singen in Ruf und Antwort)\, oder Geschichten aus der Yoga Philosophie näher gebracht und Fragen und Antworten gestellt – alles unter Anleitung des Lehrers. \nEs sind keinerlei Vorkenntnisse erforderlich. Wir freuen uns auf dich.
URL:https://www.rootsyoga.de/yoga-event/satsang-mit-dem-roots-team-vor-ort-2/
LOCATION:Roots Yoga Studio\, Mittelweg 146\, Hamburg\, 20148\, Deutschland
CATEGORIES:Event,Kirtan,Satsang,Special Guests
ATTACH;FMTTYPE=image/jpeg:https://www.rootsyoga.de/wp-content/uploads/2025/05/SatsangKursKirtanMusik-e1748937554660.jpg
END:VEVENT
BEGIN:VEVENT
DTSTART;TZID=Europe/Berlin:20250926T200000
DTEND;TZID=Europe/Berlin:20250926T210000
DTSTAMP:20260421T060441
CREATED:20250906T160009Z
LAST-MODIFIED:20251013T173342Z
UID:10000214-1758916800-1758920400@www.rootsyoga.de
SUMMARY:Roots Community Satsang & Kirtan (ONLINE)
DESCRIPTION:Satsang (Sanskrit: सत्सङ्ग satsaṅga m.; Hindi: सत्संग satsaṃg m.; von sat = wahr\, sanga = Umgang) bedeutet übersetzt: Zusammensein mit der Wahrheit. \nAnders formuliert: Beim Satsang wird meistens zusammen Meditiert und Kirtan gesungen (Singen in Ruf und Antwort)\, oder Geschichten aus der Yoga Philosophie näher gebracht und Fragen und Antworten gestellt – alles unter Anleitung des Lehrers. \nEs sind keinerlei Vorkenntnisse erforderlich. Wir freuen uns auf dich.
URL:https://www.rootsyoga.de/yoga-event/satsang-mit-dem-roots-team-online-2/
LOCATION:Roots Yoga Studio\, Mittelweg 146\, Hamburg\, 20148\, Deutschland
CATEGORIES:Event,Kirtan,Online,Satsang
ATTACH;FMTTYPE=image/jpeg:https://www.rootsyoga.de/wp-content/uploads/2025/05/SatsangKursKirtanMusik-e1748937554660.jpg
END:VEVENT
END:VCALENDAR