BEGIN:VCALENDAR
VERSION:2.0
PRODID:-//RootsYoga - ECPv6.15.14//NONSGML v1.0//EN
CALSCALE:GREGORIAN
METHOD:PUBLISH
X-ORIGINAL-URL:https://www.rootsyoga.de
X-WR-CALDESC:Veranstaltungen für RootsYoga
REFRESH-INTERVAL;VALUE=DURATION:PT1H
X-Robots-Tag:noindex
X-PUBLISHED-TTL:PT1H
BEGIN:VTIMEZONE
TZID:Europe/Berlin
BEGIN:DAYLIGHT
TZOFFSETFROM:+0100
TZOFFSETTO:+0200
TZNAME:CEST
DTSTART:20240331T010000
END:DAYLIGHT
BEGIN:STANDARD
TZOFFSETFROM:+0200
TZOFFSETTO:+0100
TZNAME:CET
DTSTART:20241027T010000
END:STANDARD
BEGIN:DAYLIGHT
TZOFFSETFROM:+0100
TZOFFSETTO:+0200
TZNAME:CEST
DTSTART:20250330T010000
END:DAYLIGHT
BEGIN:STANDARD
TZOFFSETFROM:+0200
TZOFFSETTO:+0100
TZNAME:CET
DTSTART:20251026T010000
END:STANDARD
BEGIN:DAYLIGHT
TZOFFSETFROM:+0100
TZOFFSETTO:+0200
TZNAME:CEST
DTSTART:20260329T010000
END:DAYLIGHT
BEGIN:STANDARD
TZOFFSETFROM:+0200
TZOFFSETTO:+0100
TZNAME:CET
DTSTART:20261025T010000
END:STANDARD
END:VTIMEZONE
BEGIN:VEVENT
DTSTART;TZID=Europe/Berlin:20251003T123000
DTEND;TZID=Europe/Berlin:20251003T140000
DTSTAMP:20260421T072845
CREATED:20250923T114522Z
LAST-MODIFIED:20250927T074848Z
UID:10000219-1759494600-1759500000@www.rootsyoga.de
SUMMARY:Spendenklasse - Yogaspirit & Sound für die Kim Flint Foundation (VOR ORT)
DESCRIPTION:Manchmal reicht Bewegung allein nicht. Manchmal braucht es auch Klang\, Stille und die Erinnerung daran\, dass wir verbunden sind. Die Intention: gemeinsam etwas bewegen – auf der Matte und darüber hinaus. Wir praktizieren eine 1\,5-stündige Jivamukti-Klasse\, fließend\, kraftvoll\, durchdrungen von Musik\, Spirit und Klarheit. \nKrebs betrifft viele. Doch manche Diagnosen bleiben im Schatten. Selten\, kaum erforscht\, wenig behandelt. \nDas Nebennierenkarzinom ist eine dieser Krankheiten. Kim lebt mit einem seltenen\, aggressiven Krebs. Ihre Geschichte ist nicht nur eine persönliche\, sondern auch eine strukturelle: Es fehlt an Forschung\, an Sichtbarkeit\, an Zeit. Und genau deshalb braucht es mehr: mehr Gemeinsamkeit! \nKim hat mit ihrer Kim Flint Foundation einen Grundstein dafür gesetzt\, dass diese seltene Erkrankung Sichtbarkeit bekommt – mit Engagement für Fortschritt in der Krebsmedizin. \nDas Besondere dieser Klasse: \nEine Jivamutki Open für den Spirit mit anschließend verlängertem Sound-Savasana. Heilende Klänge\, die dich tief entspannen\, erden und verbinden. Ein Moment der Stille. Der Erinnerung. Und der Hoffnung. \nDiese Klasse ist kostenfrei. \nAlle Spenden gehen direkt an die Kim Flint Foundation und fließen in die Forschung gegen die seltene Krebserkrankung. \nSpende direkt über ihre Webseite: https://www.kim-flint-foundation.com/spenden oder bringe Bargeld mit! \n🧡 Dein Atem kann Teil einer Veränderung sein. \n🧡 Deine Praxis kann einen Unterschied machen. \n🧡 Deine Spende kann Leben verlängern. \nLass uns gemeinsam Raum schaffen – für mehr Wissen\, mehr Heilung\, mehr Zukunft. \nFür alle\, die kämpfen. Für alle\, die hoffen. Für alle\, die noch hier sind.
URL:https://www.rootsyoga.de/yoga-event/spendenklasse-yogaspirit-sound-fuer-die-kim-flint-foundation-vor-ort/
CATEGORIES:Event,Special
ATTACH;FMTTYPE=image/jpeg:https://www.rootsyoga.de/wp-content/uploads/2025/09/WhatsApp-Image-2025-09-21-at-08.08.32.jpeg
END:VEVENT
END:VCALENDAR