BEGIN:VCALENDAR
VERSION:2.0
PRODID:-//RootsYoga - ECPv6.15.14//NONSGML v1.0//EN
CALSCALE:GREGORIAN
METHOD:PUBLISH
X-WR-CALNAME:RootsYoga
X-ORIGINAL-URL:https://www.rootsyoga.de
X-WR-CALDESC:Veranstaltungen für RootsYoga
REFRESH-INTERVAL;VALUE=DURATION:PT1H
X-Robots-Tag:noindex
X-PUBLISHED-TTL:PT1H
BEGIN:VTIMEZONE
TZID:Europe/Berlin
BEGIN:DAYLIGHT
TZOFFSETFROM:+0100
TZOFFSETTO:+0200
TZNAME:CEST
DTSTART:20240331T010000
END:DAYLIGHT
BEGIN:STANDARD
TZOFFSETFROM:+0200
TZOFFSETTO:+0100
TZNAME:CET
DTSTART:20241027T010000
END:STANDARD
BEGIN:DAYLIGHT
TZOFFSETFROM:+0100
TZOFFSETTO:+0200
TZNAME:CEST
DTSTART:20250330T010000
END:DAYLIGHT
BEGIN:STANDARD
TZOFFSETFROM:+0200
TZOFFSETTO:+0100
TZNAME:CET
DTSTART:20251026T010000
END:STANDARD
BEGIN:DAYLIGHT
TZOFFSETFROM:+0100
TZOFFSETTO:+0200
TZNAME:CEST
DTSTART:20260329T010000
END:DAYLIGHT
BEGIN:STANDARD
TZOFFSETFROM:+0200
TZOFFSETTO:+0100
TZNAME:CET
DTSTART:20261025T010000
END:STANDARD
END:VTIMEZONE
BEGIN:VEVENT
DTSTART;TZID=Europe/Berlin:20251108T141500
DTEND;TZID=Europe/Berlin:20251108T153000
DTSTAMP:20260421T032026
CREATED:20250603T083134Z
LAST-MODIFIED:20250603T083134Z
UID:10000195-1762611300-1762615800@www.rootsyoga.de
SUMMARY:Restore & Renew engl. mit Andrea (VOR ORT)
DESCRIPTION:Dieser Kurs wurde entwickelt\, um deinen Geist und deinen Körper zu entspannen. Diese Yoga Klasse beinhaltet sanfte Bewegungen\, Atemtechniken\, Meditation\, eine geführte Entspannung\, Sanskrit-Chanting und Asanas\, die für ein paar Minuten gehalten werden. Du wirst dich nach dieser Stunde körperlich und geistig extrem erholt fühlen. Diese Klasse ist eine wunderbare Ergänzung zu allen auf Vinyasa basierenden Jivamukti Kursen die wir sonst anbieten\, wie z. B. die Open oder Spiritual Warrior. \nDeine Faszien werden sanft aber effektiv gedehnt\, dein Atem verlängert und dein Geist beruhigt. \n  \nStornierungsregeln für Klassen bei Roots Yoga \n\nKlassen können bis zu 12 Stunden vor Beginn storniert werden. In diesem Fall wird die Klasse als Guthaben auf deinem Account gutgeschrieben.\nEine Rückerstattung des Geldes ist nicht möglich – das Guthaben kann jedoch für zukünftige Buchungen genutzt werden.\nNach Abschluss der Buchung ist eine Rückerstattung ausgeschlossen – unabhängig vom Grund der Stornierung.\nBuchungen sind nicht auf Dritte übertragbar und können nur vom ursprünglichen Käufer genutzt werden.\n\nFalls du noch Fragen hast\, melde dich gerne bei uns: hello@rootsyoga.de.
URL:https://www.rootsyoga.de/yoga-event/restore-renew-engl-mit-andrea-vor-ort/
CATEGORIES:Event,Special Guests
ATTACH;FMTTYPE=image/jpeg:https://www.rootsyoga.de/wp-content/uploads/2025/06/Restore-Renew-Andrea-Radhika-Roots-Yoga-Hamburg-Special-Event.jpeg
END:VEVENT
BEGIN:VEVENT
DTSTART;TZID=Europe/Berlin:20251108T141500
DTEND;TZID=Europe/Berlin:20251108T153000
DTSTAMP:20260421T032026
CREATED:20250603T083235Z
LAST-MODIFIED:20250603T083235Z
UID:10000196-1762611300-1762615800@www.rootsyoga.de
SUMMARY:Restore & Renew engl. mit Andrea (ONLINE)
DESCRIPTION:Dieser Kurs wurde entwickelt\, um deinen Geist und deinen Körper zu entspannen. Diese Yoga Klasse beinhaltet sanfte Bewegungen\, Atemtechniken\, Meditation\, eine geführte Entspannung\, Sanskrit-Chanting und Asanas\, die für ein paar Minuten gehalten werden. Du wirst dich nach dieser Stunde körperlich und geistig extrem erholt fühlen. Diese Klasse ist eine wunderbare Ergänzung zu allen auf Vinyasa basierenden Jivamukti Kursen die wir sonst anbieten\, wie z. B. die Open oder Spiritual Warrior. \nDeine Faszien werden sanft aber effektiv gedehnt\, dein Atem verlängert und dein Geist beruhigt. \n  \nStornierungsregeln für Klassen bei Roots Yoga \n\nKlassen können bis zu 12 Stunden vor Beginn storniert werden. In diesem Fall wird die Klasse als Guthaben auf deinem Account gutgeschrieben.\nEine Rückerstattung des Geldes ist nicht möglich – das Guthaben kann jedoch für zukünftige Buchungen genutzt werden.\nNach Abschluss der Buchung ist eine Rückerstattung ausgeschlossen – unabhängig vom Grund der Stornierung.\nBuchungen sind nicht auf Dritte übertragbar und können nur vom ursprünglichen Käufer genutzt werden.\n\nFalls du noch Fragen hast\, melde dich gerne bei uns: hello@rootsyoga.de.
URL:https://www.rootsyoga.de/yoga-event/restore-renew-engl-mit-andrea-online/
CATEGORIES:Event,Online,Special Guests
ATTACH;FMTTYPE=image/jpeg:https://www.rootsyoga.de/wp-content/uploads/2025/06/Restore-Renew-Andrea-Radhika-Roots-Yoga-Hamburg-Special-Event.jpeg
END:VEVENT
BEGIN:VEVENT
DTSTART;TZID=Europe/Berlin:20251108T160000
DTEND;TZID=Europe/Berlin:20251108T180000
DTSTAMP:20260421T032026
CREATED:20250604T135031Z
LAST-MODIFIED:20251002T142715Z
UID:10000197-1762617600-1762624800@www.rootsyoga.de
SUMMARY:How To Teach: Restore & Renew | Teachers Workshop and for everyone else (VOR ORT)
DESCRIPTION:This workshop explains in a clear and practical way how you can learn to teach a calm and grounding yoga class.  \nIn this teachers workshop we will explore various techniques of asana sequencing\, pranayama/ breath work and meditation seats with different and varied use of props and timings for the Restore and Renew class to use in your classes or on retreats or one to one sessions. \nAndrea will provide handouts and music options to feel confidant in delivering the newest Jivamukti standarised class. \nAlongside her Jivamukti lineage she is a trained Yin teacher under the guidance of Sarah powers and has completed trainings and continues to study Restorative yoga with Judith Hanson Lasater. \nThe workshop takes place with a minimum of 10 people. \nSCHEDULE WHAT CLASSES ANDREA TEACHES DURING HER STAY IN HAMBURG \n\nFR 07.11. 18:30 Jiva Open 90 engl.\nFR 07.11. 20:15 Satsang/Kirtan\nSA 08.11. 11:00 Jiva Open 90 engl.\nSA 08.11. 14:15 Restore&Renew 75 engl.\nSA 08.11 16:00-18:00 Workshop: How To Teach: Restore & Renew\n\nBio Andrea Radhika Kwiatkowski \nAndrea has been studying yoga since her twenties and teaching yoga since 2000 . She is an Advanced Jivamukti teacher studying directly from Sharon Gannon and David life and is a mentor on the Jivamukti teacher training faculty teaching at various Jivamukti centres around Europe . Andrea is a Level 2 trained yin teacher under the guidance of Sarah Powers since 2004 when she began yin yoga . She has also trained with Judith Lasater and is certified in Restorative yoga . Andrea has been mentoring teachers since 2008 . She completed the Michael stone Mindfulness training in 2020. She teaches various workshops and retreats both in the UK and abroad. Her teachings are infused with stories\, laughter and lightness . \nAndrea has been facilitating yoga retreats both in the UK and worldwide since 2004 . She has taught at some of the most prestige retreat centres in the world and now has a series of online courses available at \nwww.santoshayoga.co.uk \nInstagram: mydogdoesyoga
URL:https://www.rootsyoga.de/yoga-event/how-to-teach-restore-renew-teachers-workshop-w-andrea-and-for-everyone-else/
CATEGORIES:Event,Special Guests,Workshops
ATTACH;FMTTYPE=image/jpeg:https://www.rootsyoga.de/wp-content/uploads/2025/06/photo_0317-e1749044947988.jpeg
END:VEVENT
BEGIN:VEVENT
DTSTART;TZID=Europe/Berlin:20251108T160000
DTEND;TZID=Europe/Berlin:20251108T180000
DTSTAMP:20260421T032026
CREATED:20251002T141644Z
LAST-MODIFIED:20251002T142728Z
UID:10000228-1762617600-1762624800@www.rootsyoga.de
SUMMARY:How To Teach: Restore & Renew | Teachers Workshop and for everyone else (ONLINE)
DESCRIPTION:This workshop explains in a clear and practical way how you can learn to teach a calm and grounding yoga class.  \nIn this teachers workshop we will explore various techniques of asana sequencing\, pranayama/ breath work and meditation seats with different and varied use of props and timings for the Restore and Renew class to use in your classes or on retreats or one to one sessions. \nAndrea will provide handouts and music options to feel confidant in delivering the newest Jivamukti standarised class. \nAlongside her Jivamukti lineage she is a trained Yin teacher under the guidance of Sarah powers and has completed trainings and continues to study Restorative yoga with Judith Hanson Lasater. \nThe workshop takes place with a minimum of 10 people. \nSCHEDULE WHAT CLASSES ANDREA TEACHES DURING HER STAY IN HAMBURG: \nFR 07.11. 18:30 Jivamukti Open 90 engl. / 20:15 Satsang/Kirtan \nSA 08.11. 14:15 Restore&Renew 75 engl. / 16:00-18:00 Workshop: How To Teach: Restore & Renew \nSO 09.11. 11:00 Jivamukti Open XL \nBio Andrea Radhika Kwiatkowski \nAndrea has been studying yoga since her twenties and teaching yoga since 2000 . She is an Advanced Jivamukti teacher studying directly from Sharon Gannon and David life and is a mentor on the Jivamukti teacher training faculty teaching at various Jivamukti centres around Europe . Andrea is a Level 2 trained yin teacher under the guidance of Sarah Powers since 2004 when she began yin yoga . She has also trained with Judith Lasater and is certified in Restorative yoga . Andrea has been mentoring teachers since 2008 . She completed the Michael stone Mindfulness training in 2020. She teaches various workshops and retreats both in the UK and abroad. Her teachings are infused with stories \, laughter and lightness . \nAndrea has been facilitating yoga retreats both in the UK and worldwide since 2004 . She has taught at some of the most prestige retreat centres in the world and now has a series of online courses available at \nwww.santoshayoga.co.uk \nInstagram: mydogdoesyoga \n 
URL:https://www.rootsyoga.de/yoga-event/how-to-teach-restore-renew-teachers-workshop-and-for-everyone-else-%e2%9c%a8/
CATEGORIES:Event,Masterclass,Online,Special Guests,Workshops
ATTACH;FMTTYPE=image/jpeg:https://www.rootsyoga.de/wp-content/uploads/2025/06/photo_0317-e1749044947988.jpeg
END:VEVENT
END:VCALENDAR