BEGIN:VCALENDAR
VERSION:2.0
PRODID:-//RootsYoga - ECPv6.15.14//NONSGML v1.0//EN
CALSCALE:GREGORIAN
METHOD:PUBLISH
X-WR-CALNAME:RootsYoga
X-ORIGINAL-URL:https://www.rootsyoga.de
X-WR-CALDESC:Veranstaltungen für RootsYoga
REFRESH-INTERVAL;VALUE=DURATION:PT1H
X-Robots-Tag:noindex
X-PUBLISHED-TTL:PT1H
BEGIN:VTIMEZONE
TZID:Europe/Berlin
BEGIN:DAYLIGHT
TZOFFSETFROM:+0100
TZOFFSETTO:+0200
TZNAME:CEST
DTSTART:20240331T010000
END:DAYLIGHT
BEGIN:STANDARD
TZOFFSETFROM:+0200
TZOFFSETTO:+0100
TZNAME:CET
DTSTART:20241027T010000
END:STANDARD
BEGIN:DAYLIGHT
TZOFFSETFROM:+0100
TZOFFSETTO:+0200
TZNAME:CEST
DTSTART:20250330T010000
END:DAYLIGHT
BEGIN:STANDARD
TZOFFSETFROM:+0200
TZOFFSETTO:+0100
TZNAME:CET
DTSTART:20251026T010000
END:STANDARD
BEGIN:DAYLIGHT
TZOFFSETFROM:+0100
TZOFFSETTO:+0200
TZNAME:CEST
DTSTART:20260329T010000
END:DAYLIGHT
BEGIN:STANDARD
TZOFFSETFROM:+0200
TZOFFSETTO:+0100
TZNAME:CET
DTSTART:20261025T010000
END:STANDARD
END:VTIMEZONE
BEGIN:VEVENT
DTSTART;TZID=Europe/Berlin:20251109T110000
DTEND;TZID=Europe/Berlin:20251109T130000
DTSTAMP:20260421T032114
CREATED:20250521T064226Z
LAST-MODIFIED:20250815T192653Z
UID:10000187-1762686000-1762693200@www.rootsyoga.de
SUMMARY:Jivamukti Open XL mit Andrea (online)
DESCRIPTION:Eine Jivamukti Open XL Klasse gibt dir in einer verlängerten Form alles\, was den typischen Jiva-Zauber ausmacht: Chanten\, Philosophie\, eine schwitzige Asana Praxis\, Pranayama und viel viel Genuss des eigenen Seins. \nBegleitet wird die Klasse immer von Musik\, die dich pulsieren lässt\, berührt und trägt. Für unsere LehrerInnen ist das Zusammenspiel all dieser Elemente zentral für das Erleben deiner Praxis\, die dich dein eigenes Potential entfalten lässt. \nDie XL-Klasse lässt dich noch tiefer in deine Asana Praxis eintauchen und hat je nach LehrerIn\, eine besondere Ausrichtung. Oft kommt es hier zur Vertiefung des Wissen zu Umkehrhaltungen\, Arm-Balancen\, oder aber auch intensiven Vorwärtsbeugen\, die sich in dieser Klasse sehr gut erklären lassen. Asana\, die sonst vielleicht eher etwas schwerer zu begreifen sind\, lassen sich in einer XL-Klasse fabelhaft gemeinsam erarbeiten. \nStornierungsregeln für Klassen bei Roots Yoga \n\nKlassen können bis zu 12 Stunden vor Beginn storniert werden. In diesem Fall wird die Klasse als Guthaben auf deinem Account gutgeschrieben.\nEine Rückerstattung des Geldes ist nicht möglich – das Guthaben kann jedoch für zukünftige Buchungen genutzt werden.\nNach Abschluss der Buchung ist eine Rückerstattung ausgeschlossen – unabhängig vom Grund der Stornierung.\nBuchungen sind nicht auf Dritte übertragbar und können nur vom ursprünglichen Käufer genutzt werden.\n\nFalls du noch Fragen hast\, melde dich gerne bei uns: support@rootsyoga.de. \n  \n 
URL:https://www.rootsyoga.de/yoga-event/jivamukti-open-mit-yoga-nidra-vor-ort-3/
CATEGORIES:Event,Masterclass,Online
ATTACH;FMTTYPE=image/jpeg:https://www.rootsyoga.de/wp-content/uploads/2025/06/Andrea-Radhika-Hamburg-Jivamukti-advanced-Teacher-e1748938872780.jpeg
END:VEVENT
BEGIN:VEVENT
DTSTART;TZID=Europe/Berlin:20251109T110000
DTEND;TZID=Europe/Berlin:20251109T130000
DTSTAMP:20260421T032114
CREATED:20250617T135541Z
LAST-MODIFIED:20250815T192836Z
UID:10000203-1762686000-1762693200@www.rootsyoga.de
SUMMARY:Jivamukti Open XL mit Andrea (vor Ort)
DESCRIPTION:Eine Jivamukti Open XL Klasse gibt dir in einer verlängerten Form alles\, was den typischen Jiva-Zauber ausmacht: Chanten\, Philosophie\, eine schwitzige Asana Praxis\, Pranayama und viel viel Genuss des eigenen Seins. \nBegleitet wird die Klasse immer von Musik\, die dich pulsieren lässt\, berührt und trägt. Für unsere LehrerInnen ist das Zusammenspiel all dieser Elemente zentral für das Erleben deiner Praxis\, die dich dein eigenes Potential entfalten lässt. \nDie XL-Klasse lässt dich noch tiefer in deine Asana Praxis eintauchen und hat je nach LehrerIn\, eine besondere Ausrichtung. Oft kommt es hier zur Vertiefung des Wissen zu Umkehrhaltungen\, Arm-Balancen\, oder aber auch intensiven Vorwärtsbeugen\, die sich in dieser Klasse sehr gut erklären lassen. Asana\, die sonst vielleicht eher etwas schwerer zu begreifen sind\, lassen sich in einer XL-Klasse fabelhaft gemeinsam erarbeiten. \nStornierungsregeln für Klassen bei Roots Yoga \n\nKlassen können bis zu 12 Stunden vor Beginn storniert werden. In diesem Fall wird die Klasse als Guthaben auf deinem Account gutgeschrieben.\nEine Rückerstattung des Geldes ist nicht möglich – das Guthaben kann jedoch für zukünftige Buchungen genutzt werden.\nNach Abschluss der Buchung ist eine Rückerstattung ausgeschlossen – unabhängig vom Grund der Stornierung.\nBuchungen sind nicht auf Dritte übertragbar und können nur vom ursprünglichen Käufer genutzt werden.\n\nFalls du noch Fragen hast\, melde dich gerne bei uns: support@rootsyoga.de
URL:https://www.rootsyoga.de/yoga-event/roots-x-saturday-special-open-xl-flowing-through-the-bhagavad-gita-online/
CATEGORIES:Event,Masterclass
ATTACH;FMTTYPE=image/jpeg:https://www.rootsyoga.de/wp-content/uploads/2025/06/Andrea-Radhika-Hamburg-Jivamukti-advanced-Teacher-e1748938872780.jpeg
END:VEVENT
BEGIN:VEVENT
DTSTART;TZID=Europe/Berlin:20251109T150000
DTEND;TZID=Europe/Berlin:20251109T160000
DTSTAMP:20260421T032114
CREATED:20251007T135115Z
LAST-MODIFIED:20251007T135115Z
UID:10000232-1762700400-1762704000@www.rootsyoga.de
SUMMARY:Sound Bath (VOR ORT)
DESCRIPTION:Eine Klangmeditation mit Kristallschalen hat auf unseren gesamtem Organismus eine heilende und entspannende Wirkung. Der pure Sound dieser Klangschalen ist in der Lage\, sowohl physisch als auch energetisch unsere Blockaden zu lockern und dadurch Platz für Heilung entstehen zu lassen. Die verschiedenen Vibrationen der Schalen haben durch ihre Zusammensetzung die Fähigkeit unser Unterbewusstsein aufzuwecken. \nBEI MONDPHASEN: Um in den tiefen Kontakt mit sich selbst zu treten\, nutzen wir in den richtigen Phasen die Kraft des Mondes. Bei einem Neumondritual beispielsweise wird der Blick mit Hilfe des Sounds der Klangschalen nach Innen gerichtet\, um danach gestärkt die bevorstehende Mondphase zu beginnen. \nTUNE IN AND ZOOM OUT \nDas Sound Bath findet in einer angenehmen liegenden Position statt. Es ist eine tolle Gelegenheit dem Kopf Leerlauf zu gönnen und Stress vor der Tür zu lassen. \nWir freuen uns auf auf dich!
URL:https://www.rootsyoga.de/yoga-event/sound-bath-vor-ort/
LOCATION:Roots Yoga Studio\, Mittelweg 146\, Hamburg\, 20148\, Deutschland
CATEGORIES:Event,Soundbath
ATTACH;FMTTYPE=image/jpeg:https://www.rootsyoga.de/wp-content/uploads/2025/05/Sound-Bath-Ali-e1758695380442.jpeg
END:VEVENT
END:VCALENDAR