BEGIN:VCALENDAR
VERSION:2.0
PRODID:-//RootsYoga - ECPv6.15.14//NONSGML v1.0//EN
CALSCALE:GREGORIAN
METHOD:PUBLISH
X-WR-CALNAME:RootsYoga
X-ORIGINAL-URL:https://www.rootsyoga.de
X-WR-CALDESC:Veranstaltungen für RootsYoga
REFRESH-INTERVAL;VALUE=DURATION:PT1H
X-Robots-Tag:noindex
X-PUBLISHED-TTL:PT1H
BEGIN:VTIMEZONE
TZID:Europe/Berlin
BEGIN:DAYLIGHT
TZOFFSETFROM:+0100
TZOFFSETTO:+0200
TZNAME:CEST
DTSTART:20240331T010000
END:DAYLIGHT
BEGIN:STANDARD
TZOFFSETFROM:+0200
TZOFFSETTO:+0100
TZNAME:CET
DTSTART:20241027T010000
END:STANDARD
BEGIN:DAYLIGHT
TZOFFSETFROM:+0100
TZOFFSETTO:+0200
TZNAME:CEST
DTSTART:20250330T010000
END:DAYLIGHT
BEGIN:STANDARD
TZOFFSETFROM:+0200
TZOFFSETTO:+0100
TZNAME:CET
DTSTART:20251026T010000
END:STANDARD
BEGIN:DAYLIGHT
TZOFFSETFROM:+0100
TZOFFSETTO:+0200
TZNAME:CEST
DTSTART:20260329T010000
END:DAYLIGHT
BEGIN:STANDARD
TZOFFSETFROM:+0200
TZOFFSETTO:+0100
TZNAME:CET
DTSTART:20261025T010000
END:STANDARD
END:VTIMEZONE
BEGIN:VEVENT
DTSTART;TZID=Europe/Berlin:20251227T160000
DTEND;TZID=Europe/Berlin:20251227T164500
DTSTAMP:20260421T013104
CREATED:20251218T154416Z
LAST-MODIFIED:20251218T193916Z
UID:10000260-1766851200-1766853900@www.rootsyoga.de
SUMMARY:Rest\, Reflect & Close the Year 2025 - Yoga Nidra (ONLINE)
DESCRIPTION:Rest\, Reflect & Close the Year 2025\nOnline Yoga Nidra – A Deep Journey Inward \nDiese drei besonderen Yoga-Nidra-Klassen laden dich ein\, das Jahr 2025 in einem Zustand tiefer Ruhe\, Klarheit und Sanftheit zu beschließen. In der oft lauten Zeit zum Jahresende schaffen wir bewusst Raum für Stille – einen Raum\, in dem nichts optimiert\, geleistet oder festgehalten werden muss. \nSa 27.12 16Uhr | Mo 29.12. 12:30Uhr | Mi 30.12. 20:15Uhr \nBuche alle drei Klassen im Bundle für 30 € (statt 36 €) und schenke dir nachhaltige Entspannung zum Jahresausklang.
URL:https://www.rootsyoga.de/yoga-event/rest-reflect-close-the-year-2015-yoga-nidra-online/
CATEGORIES:Event,Online
ATTACH;FMTTYPE=image/jpeg:https://www.rootsyoga.de/wp-content/uploads/2025/05/Jivamukti-Open-und-Yoga-Nidra-mit-Nils-Schaefer-Roots-Yooga-Hamburg-e1747809666973.jpg
END:VEVENT
END:VCALENDAR