BEGIN:VCALENDAR
VERSION:2.0
PRODID:-//RootsYoga - ECPv6.15.14//NONSGML v1.0//EN
CALSCALE:GREGORIAN
METHOD:PUBLISH
X-WR-CALNAME:RootsYoga
X-ORIGINAL-URL:https://www.rootsyoga.de
X-WR-CALDESC:Veranstaltungen für RootsYoga
REFRESH-INTERVAL;VALUE=DURATION:PT1H
X-Robots-Tag:noindex
X-PUBLISHED-TTL:PT1H
BEGIN:VTIMEZONE
TZID:Europe/Berlin
BEGIN:DAYLIGHT
TZOFFSETFROM:+0100
TZOFFSETTO:+0200
TZNAME:CEST
DTSTART:20250330T010000
END:DAYLIGHT
BEGIN:STANDARD
TZOFFSETFROM:+0200
TZOFFSETTO:+0100
TZNAME:CET
DTSTART:20251026T010000
END:STANDARD
BEGIN:DAYLIGHT
TZOFFSETFROM:+0100
TZOFFSETTO:+0200
TZNAME:CEST
DTSTART:20260329T010000
END:DAYLIGHT
BEGIN:STANDARD
TZOFFSETFROM:+0200
TZOFFSETTO:+0100
TZNAME:CET
DTSTART:20261025T010000
END:STANDARD
BEGIN:DAYLIGHT
TZOFFSETFROM:+0100
TZOFFSETTO:+0200
TZNAME:CEST
DTSTART:20270328T010000
END:DAYLIGHT
BEGIN:STANDARD
TZOFFSETFROM:+0200
TZOFFSETTO:+0100
TZNAME:CET
DTSTART:20271031T010000
END:STANDARD
END:VTIMEZONE
BEGIN:VEVENT
DTSTART;TZID=Europe/Berlin:20260109T183000
DTEND;TZID=Europe/Berlin:20260109T200000
DTSTAMP:20260420T213540
CREATED:20251229T204840Z
LAST-MODIFIED:20260108T180731Z
UID:10000267-1767983400-1767988800@www.rootsyoga.de
SUMMARY:Altona: Jivamukti Open mit Moritz (VOR ORT)
DESCRIPTION:Eine Jivamukti Open Klasse beinhaltet dynamische und physisch herausfordernde Vinyasa Sequenzen\, bewusste Führung des Atems – unterstützt von den Anleitungen und Assists des Lehrers. Die Yogahaltungen (Asanas) haben dabei unterschiedliche Schwierigkeitsgrade für Beginner und Fortgeschrittene. In jeder Open Stunde wird Musik gespielt\, werden traditionelle Schriften rezitiert\, gemeinsam Mantra gesungen (gechantet) und meditiert. \nIn der Open Class\, wie sie auch genannt wird\, werden klassische Yoga-Lehren aufgegriffen und für unser modernes Leben verständlich gemacht. Die Inspirationen dazu liefert der Focus of the Month (Fokus des Monats) – ein Essay\, der monatlich erscheint und jeweils von einer:m Senior-Lehrer:in der Jivamukti Methode geschrieben worden ist. Die Jivamukti Open Klassen sind für jede/jeden geeignet\, egal ob du seit 20 Jahren praktizierst\, oder dich dein Weg gerade erst zum Yoga geführt hat. \nStornierungsregeln für Klassen bei Roots Yoga \n\nKlassen können bis zu 12 Stunden vor Beginn storniert werden. In diesem Fall wird die Klasse als Guthaben auf deinem Account gutgeschrieben.\nEine Rückerstattung des Geldes ist nicht möglich – das Guthaben kann jedoch für zukünftige Buchungen genutzt werden.\nNach Abschluss der Buchung ist eine Rückerstattung ausgeschlossen – unabhängig vom Grund der Stornierung.\nBuchungen sind nicht auf Dritte übertragbar und können nur vom ursprünglichen Käufer genutzt werden.\n\nFalls du noch Fragen hast\, melde dich gerne bei uns: support@rootsyoga.de. \n  \n  \n 
URL:https://www.rootsyoga.de/yoga-event/jivamukti-open-mit-moritz-vor-ort-2/
LOCATION:roots yoga studio altona\, Große Brunnenstraße 63a\, Hamburg\, 22763
CATEGORIES:Event,Special Guests
ATTACH;FMTTYPE=image/jpeg:https://www.rootsyoga.de/wp-content/uploads/2023/12/2023-moritz_4844_©pavelbecker.jpg
END:VEVENT
BEGIN:VEVENT
DTSTART;TZID=Europe/Berlin:20260109T200000
DTEND;TZID=Europe/Berlin:20260109T210000
DTSTAMP:20260420T213540
CREATED:20251218T201541Z
LAST-MODIFIED:20260108T180723Z
UID:10000265-1767988800-1767992400@www.rootsyoga.de
SUMMARY:Mittelweg: Roots Community Satsang (VOR ORT)
DESCRIPTION:Satsang (Sanskrit: सत्सङ्ग satsaṅga m.; Hindi: सत्संग satsaṃg m.; von sat = wahr\, sanga = Umgang) bedeutet übersetzt: Zusammensein mit der Wahrheit. \nAnders formuliert: Beim Satsang wird meistens zusammen Meditiert und Kirtan gesungen (Singen in Ruf und Antwort)\, oder Geschichten aus der Yoga Philosophie näher gebracht und Fragen und Antworten gestellt – alles unter Anleitung des Lehrers. \nEs sind keinerlei Vorkenntnisse erforderlich. Wir freuen uns auf dich.
URL:https://www.rootsyoga.de/yoga-event/roots-community-satsang-vor-ort/
LOCATION:Roots Yoga Studio\, Mittelweg 146\, Hamburg\, 20148\, Deutschland
CATEGORIES:Event,Satsang
ATTACH;FMTTYPE=image/jpeg:https://www.rootsyoga.de/wp-content/uploads/2025/05/SatsangKursKirtanMusik-e1748937554660.jpg
END:VEVENT
END:VCALENDAR