BEGIN:VCALENDAR
VERSION:2.0
PRODID:-//RootsYoga - ECPv6.15.14//NONSGML v1.0//EN
CALSCALE:GREGORIAN
METHOD:PUBLISH
X-WR-CALNAME:RootsYoga
X-ORIGINAL-URL:https://www.rootsyoga.de
X-WR-CALDESC:Veranstaltungen für RootsYoga
REFRESH-INTERVAL;VALUE=DURATION:PT1H
X-Robots-Tag:noindex
X-PUBLISHED-TTL:PT1H
BEGIN:VTIMEZONE
TZID:Europe/Berlin
BEGIN:DAYLIGHT
TZOFFSETFROM:+0100
TZOFFSETTO:+0200
TZNAME:CEST
DTSTART:20250330T010000
END:DAYLIGHT
BEGIN:STANDARD
TZOFFSETFROM:+0200
TZOFFSETTO:+0100
TZNAME:CET
DTSTART:20251026T010000
END:STANDARD
BEGIN:DAYLIGHT
TZOFFSETFROM:+0100
TZOFFSETTO:+0200
TZNAME:CEST
DTSTART:20260329T010000
END:DAYLIGHT
BEGIN:STANDARD
TZOFFSETFROM:+0200
TZOFFSETTO:+0100
TZNAME:CET
DTSTART:20261025T010000
END:STANDARD
BEGIN:DAYLIGHT
TZOFFSETFROM:+0100
TZOFFSETTO:+0200
TZNAME:CEST
DTSTART:20270328T010000
END:DAYLIGHT
BEGIN:STANDARD
TZOFFSETFROM:+0200
TZOFFSETTO:+0100
TZNAME:CET
DTSTART:20271031T010000
END:STANDARD
END:VTIMEZONE
BEGIN:VEVENT
DTSTART;TZID=Europe/Berlin:20260116T173000
DTEND;TZID=Europe/Berlin:20260116T193000
DTSTAMP:20260421T002348
CREATED:20260102T175343Z
LAST-MODIFIED:20260112T162717Z
UID:10000270-1768584600-1768591800@www.rootsyoga.de
SUMMARY:Altona: THE OPENING CLASS mit Janka & Marie (VOR ORT)
DESCRIPTION:Mit dieser besonderen Klasse öffnen wir die Türen unseres neuen Studios in Altona offiziell – und laden dich ein\, gemeinsam mit uns ein neues Kapitel von Roots Studios zu beginnen. \nIn dieser zweistündigen Opening Class vereinen wir all das\, wofür Roots steht: dynamische Bewegung\, geerdete Spiritualität\, tiefe Freude an der Praxis\, beeindruckende Beats und ein Raum\, in dem Körper und Herz gleichermaßen angesprochen werden. \nGemeinsam führen wir dich durch eine kraftvolle und zugleich achtsame Yogapraxis. Unser Stil verbindet fließendes Vinyasa\, klare Ausrichtung\, energetisierende Sequenzen die dein Körpergefühl verbessern und Momente der Stille. Wir kreieren ein Erlebnis\, das dich vollkommen in der Präsenz ankommen lässt und dir zeigt\, wofür Roots seit Beginn steht: Qualität\, Verbundenheit und ein tiefes Gefühl von „Home“ auf der Matte. \nDiese Klasse ist deine Chance\, dich mitzubewegen\, mitzuschwingen und mit uns gemeinsam das neue Studio energetisch einzuweihen. Ob langjährige*r Roots-Yogi oder neu in unserer Community – dies ist der perfekte Moment\, um einzutauchen\, dich inspirieren zu lassen und vielleicht sogar den Schritt zu einer Mitgliedschaft zu wagen. \nIm Anschluss an die Klasse feiern wir weiter – mit einem gemeinsamen Kirtan\, begleitet vom gesamten Roots Team. \nEin Abend voller Energie\, Musik\, Gemeinschaft und Beginn eines neuen\, wunderbaren Weges. \nWir freuen uns unendlich darauf\, diesen besonderen Moment mit dir zu teilen.
URL:https://www.rootsyoga.de/yoga-event/roots-studios-altona-opening-class-mit-janka-marie/
LOCATION:roots yoga studio altona\, Große Brunnenstraße 63a\, Hamburg\, 22763
CATEGORIES:Event,Special
ATTACH;FMTTYPE=image/jpeg:https://www.rootsyoga.de/wp-content/uploads/2025/01/2024_01_09_roots_yoga_45_janka_marie_0297.jpg
END:VEVENT
BEGIN:VEVENT
DTSTART;TZID=Europe/Berlin:20260116T194500
DTEND;TZID=Europe/Berlin:20260116T204500
DTSTAMP:20260421T002348
CREATED:20260102T180724Z
LAST-MODIFIED:20260112T114017Z
UID:10000272-1768592700-1768596300@www.rootsyoga.de
SUMMARY:Altona: THE OPENING Community Kirtan  (VOR ORT)
DESCRIPTION:Erlebe einen besonders klangvollen Kirtan mit dem Rootsteam am Eröffnungswochende des Roots Studios Altona mit Janka\, Marie und dem Roots Studios Team. \nAlle unsere LehrerInnen haben eine besondere Art zu chanten und zu singen. Spüre an diesem Abend die Resonanzen der verschiedenen Stimmen unserer Rooties und lass dich von den Klängen mitreißen. \nEs heißt\, dass Sound und Vibration zusammen Energie ist und dass wir selbst\, Energie sind. Der menschliche Körper besteht aus ca. 50 % Wasser oder sogar mehr. Wasser ist der beste Leiter für Klang\, Vibration und Musik. All diese drei Dinge haben eine sehr hohe Resonanz auf uns Menschen und eine besondere Wirkung auf uns. \nMantren und die alten yogischen Schriften sind in Sanskrit\, die Sprache des Yogas\, ausgelegt. Die Sprache Sanskrit hat eine sehr spezielle Dynamik und Frequenz\, die eine sehr kraftvolle und heilende Wirkung auf uns hat. Wenn wir Mantren chanten oder singen\, sind wir in der Lage diese Vibrationen in uns zu spüren\, die diese Klänge und Sounds produzieren. Denn wir sind das Instrument selbst\, nicht ein Gegenstand\, den wir in unseren Händen halten und spielen. Diese Vibrationen kreieren und wirbeln Energie auf\, die wir bewusst spüren und wahrnehmen und was uns schließlich zur Ruhe und zur Entspannung unseres Gedankenflusses führt. \nDie Teilnahme ist kostenfrei über rootsyoga.de buchbar.
URL:https://www.rootsyoga.de/yoga-event/roots-community-kirtan-vor-ort-2/
LOCATION:roots yoga studio altona\, Große Brunnenstraße 63a\, Hamburg\, 22763
CATEGORIES:Event,Kirtan,Special
ATTACH;FMTTYPE=image/jpeg:https://www.rootsyoga.de/wp-content/uploads/2025/05/Kirtan-kostenlos-in-hamburg-Roots-Yoga.-jpg.jpg
END:VEVENT
END:VCALENDAR