BEGIN:VCALENDAR
VERSION:2.0
PRODID:-//RootsYoga - ECPv6.15.14//NONSGML v1.0//EN
CALSCALE:GREGORIAN
METHOD:PUBLISH
X-ORIGINAL-URL:https://www.rootsyoga.de
X-WR-CALDESC:Veranstaltungen für RootsYoga
REFRESH-INTERVAL;VALUE=DURATION:PT1H
X-Robots-Tag:noindex
X-PUBLISHED-TTL:PT1H
BEGIN:VTIMEZONE
TZID:Europe/Berlin
BEGIN:DAYLIGHT
TZOFFSETFROM:+0100
TZOFFSETTO:+0200
TZNAME:CEST
DTSTART:20240331T010000
END:DAYLIGHT
BEGIN:STANDARD
TZOFFSETFROM:+0200
TZOFFSETTO:+0100
TZNAME:CET
DTSTART:20241027T010000
END:STANDARD
BEGIN:DAYLIGHT
TZOFFSETFROM:+0100
TZOFFSETTO:+0200
TZNAME:CEST
DTSTART:20250330T010000
END:DAYLIGHT
BEGIN:STANDARD
TZOFFSETFROM:+0200
TZOFFSETTO:+0100
TZNAME:CET
DTSTART:20251026T010000
END:STANDARD
BEGIN:DAYLIGHT
TZOFFSETFROM:+0100
TZOFFSETTO:+0200
TZNAME:CEST
DTSTART:20260329T010000
END:DAYLIGHT
BEGIN:STANDARD
TZOFFSETFROM:+0200
TZOFFSETTO:+0100
TZNAME:CET
DTSTART:20261025T010000
END:STANDARD
END:VTIMEZONE
BEGIN:VEVENT
DTSTART;TZID=Europe/Berlin:20250627T200000
DTEND;TZID=Europe/Berlin:20250627T210000
DTSTAMP:20260421T065547
CREATED:20250425T181226Z
LAST-MODIFIED:20250603T080205Z
UID:10000181-1751054400-1751058000@www.rootsyoga.de
SUMMARY:Satsang (ONLINE)
DESCRIPTION:Spüre an diesem Abend die Resonanzen der verschiedenen Stimmen unserer Rooties und lass dich von den Klängen mitreißen. \nEs heißt\, dass Sound und Vibration zusammen Energie ist und dass wir selbst\, Energie sind. Der menschliche Körper besteht aus ca. 50 % Wasser oder sogar mehr. Wasser ist der beste Leiter für Klang\, Vibration und Musik. All diese drei Dinge haben eine sehr hohe Resonanz auf uns Menschen und eine besondere Wirkung auf uns. \nMantren und die alten yogischen Schriften sind in Sanskrit\, die Sprache des Yogas\, ausgelegt. Die Sprache Sanskrit hat eine sehr spezielle Dynamik und Frequenz\, die eine sehr kraftvolle und heilende Wirkung auf uns hat. Wenn wir Mantren chanten oder singen\, sind wir in der Lage diese Vibrationen in uns zu spüren\, die diese Klänge und Sounds produzieren. Denn wir sind das Instrument selbst\, nicht ein Gegenstand\, den wir in unseren Händen halten und spielen. Diese Vibrationen kreieren und wirbeln Energie auf\, die wir bewusst spüren und wahrnehmen und was uns schließlich zur Ruhe und zur Entspannung unseres Gedankenflusses führt. \nSatsang (Sanskrit: सत्सङ्ग satsaṅga m.; Hindi: सत्संग satsaṃg m.; von sat = wahr\, sanga = Umgang) bedeutet übersetzt: Zusammensein mit der Wahrheit. Anders formuliert: Beim Satsang wird meistens zusammen Meditiert und Kirtan gesungen (Singen in Ruf und Antwort)\, oder Geschichten aus der Yoga Philosophie näher gebracht und Fragen und Antworten gestellt – alles unter Anleitung des Lehrers. \nEs sind keinerlei Vorkenntnisse erforderlich. Wir freuen uns auf dich. \nDie Teilnahme ist kostenfrei.
URL:https://www.rootsyoga.de/yoga-event/satsang-mit-thomas-online/
LOCATION:Roots Yoga Studio\, Mittelweg 146\, Hamburg\, 20148\, Deutschland
CATEGORIES:Online,Satsang
ATTACH;FMTTYPE=image/jpeg:https://www.rootsyoga.de/wp-content/uploads/2025/05/SatsangKursKirtanMusik-e1748937554660.jpg
END:VEVENT
BEGIN:VEVENT
DTSTART;TZID=Europe/Berlin:20250627T200000
DTEND;TZID=Europe/Berlin:20250627T210000
DTSTAMP:20260421T065547
CREATED:20250425T180642Z
LAST-MODIFIED:20250603T075956Z
UID:10000180-1751054400-1751058000@www.rootsyoga.de
SUMMARY:Satsang (VOR ORT)
DESCRIPTION:Erlebe einen besonders klangvollen Kirtan. \nSpüre an diesem Abend die Resonanzen der verschiedenen Stimmen unserer Rooties und lass dich von den Klängen mitreißen. \nEs heißt\, dass Sound und Vibration zusammen Energie ist und dass wir selbst\, Energie sind. Der menschliche Körper besteht aus ca. 50 % Wasser oder sogar mehr. Wasser ist der beste Leiter für Klang\, Vibration und Musik. All diese drei Dinge haben eine sehr hohe Resonanz auf uns Menschen und eine besondere Wirkung auf uns. \nMantren und die alten yogischen Schriften sind in Sanskrit\, die Sprache des Yogas\, ausgelegt. Die Sprache Sanskrit hat eine sehr spezielle Dynamik und Frequenz\, die eine sehr kraftvolle und heilende Wirkung auf uns hat. Wenn wir Mantren chanten oder singen\, sind wir in der Lage diese Vibrationen in uns zu spüren\, die diese Klänge und Sounds produzieren. Denn wir sind das Instrument selbst\, nicht ein Gegenstand\, den wir in unseren Händen halten und spielen. Diese Vibrationen kreieren und wirbeln Energie auf\, die wir bewusst spüren und wahrnehmen und was uns schließlich zur Ruhe und zur Entspannung unseres Gedankenflusses führt. \n\nSatsang (Sanskrit: सत्सङ्ग satsaṅga m.; Hindi: सत्संग satsaṃg m.; von sat = wahr\, sanga = Umgang) bedeutet übersetzt: Zusammensein mit der Wahrheit. Anders formuliert: Beim Satsang wird meistens zusammen Meditiert und Kirtan gesungen (Singen in Ruf und Antwort)\, oder Geschichten aus der Yoga Philosophie näher gebracht und Fragen und Antworten gestellt – alles unter Anleitung des Lehrers. \n\nDie Teilnahme ist kostenfrei
URL:https://www.rootsyoga.de/yoga-event/satsang-mit-thomas-vor-ort/
LOCATION:Roots Yoga Studio\, Mittelweg 146\, Hamburg\, 20148\, Deutschland
CATEGORIES:Satsang
ATTACH;FMTTYPE=image/jpeg:https://www.rootsyoga.de/wp-content/uploads/2025/05/SatsangKursKirtanMusik-e1748937554660.jpg
END:VEVENT
BEGIN:VEVENT
DTSTART;TZID=Europe/Berlin:20250608T131500
DTEND;TZID=Europe/Berlin:20250608T144500
DTSTAMP:20260421T065547
CREATED:20250521T064347Z
LAST-MODIFIED:20250521T131455Z
UID:10000188-1749388500-1749393900@www.rootsyoga.de
SUMMARY:Jivamukti Open + Yoga Nidra (ONLINE)
DESCRIPTION:In dieser 90-minütigen Klasse verbinden wir die kraftvolle\, dynamische Energie der Jivamukti Open Klasse mit der tiefen regenerativen Wirkung von Yoga Nidra.\nIm ersten Teil erwarten dich kreative\, dynamische Sequenzen\, getragen von bewusster Atmung\, inspirierender Musik und spirituellen Impulsen. Du wirst körperlich gefordert und gleichzeitig innerlich geerdet – ganz im Sinne der Jivamukti Yoga Tradition. \nIm Anschluss wirst du in Yoga Nidra\, den yogischen Schlaf\, geführt – eine geführte Tiefenentspannung\, die dich in einen Zustand zwischen Wachsein und Schlaf versetzt. Hier darfst du vollständig loslassen\, während dein Nervensystem regeneriert und dein Geist zur Ruhe kommt. \nDiese Kombination aus aktivierender Bewegung und tiefer Entspannung schafft Raum für Balance\, neue Klarheit und Verbundenheit – mit dir selbst und der Welt um dich herum. \nPreise: \n\nDropIn (Vor Ort): 25€\nDropIn (Online): 7\,50€\nProbewochen (einmalig für 2 Wochen): 39\,00€\n10er-Karte VOR ORT (3 Monate gültig): 179\,00 €\n10er-Karte VOR ORT (6 Monate gültig): 199\,00 €\n10er-Karte ONLINE (3 Monate gültig): 59\,00 €\n10er-Karte ONLINE (4 Jahre gültig): 249\,00 €\n\nStornierungsregeln für Klassen\, Workshops & Events bei Roots Yoga \n\nKlassen können bis zu 24 Stunden vor Beginn storniert werden. In diesem Fall wird die Klasse als Guthaben auf deinem Account gutgeschrieben.\nEine Rückerstattung des Geldes ist nicht möglich – das Guthaben kann jedoch für zukünftige Buchungen genutzt werden.\nNach Abschluss der Buchung ist eine Rückerstattung ausgeschlossen – unabhängig vom Grund der Stornierung.\nBuchungen sind nicht auf Dritte übertragbar und können nur vom ursprünglichen Käufer genutzt werden.\n\nFalls du noch Fragen hast\, melde dich gerne bei uns: hello@rootsyoga.de. \n  \n 
URL:https://www.rootsyoga.de/yoga-event/jivamukti-open-yoga-nidra-online/
CATEGORIES:Event,Online
ATTACH;FMTTYPE=image/jpeg:https://www.rootsyoga.de/wp-content/uploads/2025/05/Jivamukti-Open-und-Yoga-Nidra-mit-Nils-Schaefer-Roots-Yooga-Hamburg-e1747809666973.jpg
END:VEVENT
BEGIN:VEVENT
DTSTART;TZID=Europe/Berlin:20250509T200000
DTEND;TZID=Europe/Berlin:20250509T210000
DTSTAMP:20260421T065547
CREATED:20250207T095041Z
LAST-MODIFIED:20250417T125935Z
UID:10000140-1746820800-1746824400@www.rootsyoga.de
SUMMARY:Kirtan mit dem Roots Team (VOR ORT)
DESCRIPTION:Erlebe einen besonders klangvollen Kirtan mit dem Rootsteam. \nAlle unsere LehrerInnen haben eine besondere Art zu chanten und zu singen. Spüre an diesem Abend die Resonanzen der verschiedenen Stimmen unserer Rooties und lass dich von den Klängen mitreißen. \nEs heißt\, dass Sound und Vibration zusammen Energie ist und dass wir selbst\, Energie sind. Der menschliche Körper besteht aus ca. 50 % Wasser oder sogar mehr. Wasser ist der beste Leiter für Klang\, Vibration und Musik. All diese drei Dinge haben eine sehr hohe Resonanz auf uns Menschen und eine besondere Wirkung auf uns. \nMantren und die alten yogischen Schriften sind in Sanskrit\, die Sprache des Yogas\, ausgelegt. Die Sprache Sanskrit hat eine sehr spezielle Dynamik und Frequenz\, die eine sehr kraftvolle und heilende Wirkung auf uns hat. Wenn wir Mantren chanten oder singen\, sind wir in der Lage diese Vibrationen in uns zu spüren\, die diese Klänge und Sounds produzieren. Denn wir sind das Instrument selbst\, nicht ein Gegenstand\, den wir in unseren Händen halten und spielen. Diese Vibrationen kreieren und wirbeln Energie auf\, die wir bewusst spüren und wahrnehmen und was uns schließlich zur Ruhe und zur Entspannung unseres Gedankenflusses führt. \nDie Teilnahme ist kostenfrei
URL:https://www.rootsyoga.de/yoga-event/kirtan-mit-dem-roots-team-vor-ort-2/
LOCATION:Roots Yoga Studio\, Mittelweg 146\, Hamburg\, 20148\, Deutschland
CATEGORIES:Kirtan
ATTACH;FMTTYPE=image/jpeg:https://www.rootsyoga.de/wp-content/uploads/2023/05/image087-Kopie.jpeg
END:VEVENT
END:VCALENDAR