BEGIN:VCALENDAR
VERSION:2.0
PRODID:-//RootsYoga - ECPv6.15.14//NONSGML v1.0//EN
CALSCALE:GREGORIAN
METHOD:PUBLISH
X-WR-CALNAME:RootsYoga
X-ORIGINAL-URL:https://www.rootsyoga.de
X-WR-CALDESC:Veranstaltungen für RootsYoga
REFRESH-INTERVAL;VALUE=DURATION:PT1H
X-Robots-Tag:noindex
X-PUBLISHED-TTL:PT1H
BEGIN:VTIMEZONE
TZID:Europe/Berlin
BEGIN:DAYLIGHT
TZOFFSETFROM:+0100
TZOFFSETTO:+0200
TZNAME:CEST
DTSTART:20240331T010000
END:DAYLIGHT
BEGIN:STANDARD
TZOFFSETFROM:+0200
TZOFFSETTO:+0100
TZNAME:CET
DTSTART:20241027T010000
END:STANDARD
BEGIN:DAYLIGHT
TZOFFSETFROM:+0100
TZOFFSETTO:+0200
TZNAME:CEST
DTSTART:20250330T010000
END:DAYLIGHT
BEGIN:STANDARD
TZOFFSETFROM:+0200
TZOFFSETTO:+0100
TZNAME:CET
DTSTART:20251026T010000
END:STANDARD
BEGIN:DAYLIGHT
TZOFFSETFROM:+0100
TZOFFSETTO:+0200
TZNAME:CEST
DTSTART:20260329T010000
END:DAYLIGHT
BEGIN:STANDARD
TZOFFSETFROM:+0200
TZOFFSETTO:+0100
TZNAME:CET
DTSTART:20261025T010000
END:STANDARD
END:VTIMEZONE
BEGIN:VEVENT
DTSTART;TZID=Europe/Berlin:20250802T173000
DTEND;TZID=Europe/Berlin:20250802T193000
DTSTAMP:20260421T110157
CREATED:20250706T073702Z
LAST-MODIFIED:20250706T074430Z
UID:10000204-1754155800-1754163000@www.rootsyoga.de
SUMMARY:ROOTS x SATURDAY SPECIAL: from rhythm to rest - Jivamukti Open Discosounds & Sound Bath (VOR ORT)
DESCRIPTION:Disco Jivamukti & Soundbath mit Helena \nDich erwartet eine 120-minütige Jivamukti Yoga Klasse in zwei Teilen. \n90 Minuten fließendes Vinyasa auf Beat\, getragen von kuratierten Disco-Edits\, Funk-infused House und rhythmischen Summer Beats. Helena nimmt dich mit durch eine dynamische\, tanzende Sequenz\, die sich mit der Musik verbindet – fließend\, verspielt und kraftvoll. Fast wie ein Club\, nur barfuß auf der Matte. Der Atem gibt uns den Takt\, der Beat den Impuls.\nRhythm to Rest ist eine Einladung\, dich geführt bewegen zu lassen – mit Musik\, nicht gegen sie.\nIm zweiten Teil wirst du gehalten. 30 Minuten Savasana mit Soundbath\, um nachzuspüren\, nachzuklingen\, die Vibrationen zu integrieren. Klangschalen\, Stille\, Sein: Ein sanftes Echo der Beats\, das dich in die Tiefe begleitet.\nRhythm to Rest ist Helenas musikalischer\, abgestimmter Flow. Aus dem Herzen: tanzbar\, meditativ und genau das richtige Maß aus Ekstase und Loslassen.
URL:https://www.rootsyoga.de/yoga-event/rootsxsaturday-special-from-rhythm-to-rest-jivamukti-open-discosounds-sound-bath-vor-ort/
CATEGORIES:Event,Special
ATTACH;FMTTYPE=image/png:https://www.rootsyoga.de/wp-content/uploads/2025/07/Design-ohne-Titel-6.png
END:VEVENT
BEGIN:VEVENT
DTSTART;TZID=Europe/Berlin:20250802T173000
DTEND;TZID=Europe/Berlin:20250802T193000
DTSTAMP:20260421T110157
CREATED:20250706T073939Z
LAST-MODIFIED:20250706T074322Z
UID:10000205-1754155800-1754163000@www.rootsyoga.de
SUMMARY:ROOTS x SATURDAY SPECIAL: from rhythm to rest - Jivamukti Open Discosounds & Sound Bath (ONLINE)
DESCRIPTION:Disco Jivamukti & Soundbath mit Helena \nDich erwartet eine 120-minütige Jivamukti Yoga Klasse in zwei Teilen. \n90 Minuten fließendes Vinyasa auf Beat\, getragen von kuratierten Disco-Edits\, Funk-infused House und rhythmischen Summer Beats. Helena nimmt dich mit durch eine dynamische\, tanzende Sequenz\, die sich mit der Musik verbindet – fließend\, verspielt und kraftvoll. Fast wie ein Club\, nur barfuß auf der Matte. Der Atem gibt uns den Takt\, der Beat den Impuls.\nRhythm to Rest ist eine Einladung\, dich geführt bewegen zu lassen – mit Musik\, nicht gegen sie.\nIm zweiten Teil wirst du gehalten. 30 Minuten Savasana mit Soundbath\, um nachzuspüren\, nachzuklingen\, die Vibrationen zu integrieren. Klangschalen\, Stille\, Sein: Ein sanftes Echo der Beats\, das dich in die Tiefe begleitet.\nRhythm to Rest ist Helenas musikalischer\, abgestimmter Flow. Aus dem Herzen: tanzbar\, meditativ und genau das richtige Maß aus Ekstase und Loslassen.
URL:https://www.rootsyoga.de/yoga-event/rootsxsaturday-special-from-rhythm-to-rest-jivamukti-open-discosounds-sound-bath-online/
CATEGORIES:Event,Online,Special
ATTACH;FMTTYPE=image/png:https://www.rootsyoga.de/wp-content/uploads/2025/07/Design-ohne-Titel-6.png
END:VEVENT
BEGIN:VEVENT
DTSTART;TZID=Europe/Berlin:20250822T200000
DTEND;TZID=Europe/Berlin:20250822T210000
DTSTAMP:20260421T110157
CREATED:20250812T211753Z
LAST-MODIFIED:20250813T121652Z
UID:10000210-1755892800-1755896400@www.rootsyoga.de
SUMMARY:Satsang (VOR ORT) Gemeinsam im Austausch Beisammensein
DESCRIPTION:“It is too difficult to be just what we are.\nThe thinking mind cannot remain still when holding an image\, imagination or picture.\nOur body and mind are constantly changing with different images” \nexcerpt from Shri Brahmananda Sarasvati’s Essay ‘World of Images’ dated 1/31/1986 \nWas bedeutet Satsang? (Sanskrit: सत्सङ्ग satsaṅga m.; Hindi: सत्संग satsaṃg m.; von sat = wahr\, sanga = Umgang) bedeutet übersetzt: Zusammensein mit der Wahrheit. Anders formuliert: Beim Satsang wird meistens zusammen Meditiert und Kirtan gesungen (Singen in Ruf und Antwort)\, oder Geschichten aus der Yoga Philosophie näher gebracht und Fragen und Antworten gestellt – alles unter Anleitung des Lehrers/der Lehrerin. \n\n\nDie Teilnahme ist kostenfrei
URL:https://www.rootsyoga.de/yoga-event/satsang-vor-ort/
LOCATION:Roots Yoga Studio\, Mittelweg 146\, Hamburg\, 20148\, Deutschland
CATEGORIES:Satsang
ATTACH;FMTTYPE=image/jpeg:https://www.rootsyoga.de/wp-content/uploads/2025/05/SatsangKursKirtanMusik-e1748937554660.jpg
END:VEVENT
BEGIN:VEVENT
DTSTART;TZID=Europe/Berlin:20250830T130000
DTEND;TZID=Europe/Berlin:20250830T143000
DTSTAMP:20260421T110157
CREATED:20250720T141717Z
LAST-MODIFIED:20250721T121748Z
UID:10000208-1756558800-1756564200@www.rootsyoga.de
SUMMARY:Practice for Pride - WIR SIND HIER\, UM ZU BLEIBEN. Power Pride Class 2025
DESCRIPTION:„Wir sind hier\, um zu bleiben. Queere Menschen schützen.“\nDiese Klasse ist ein klares JA zur Sichtbarkeit\, zur Vielfalt und zum gemeinsamen Widerstand. Mit jeder Haltung\, jedem Atemzug\, jedem Tropfen Schweiß machen wir deutlich: Wir sind viele. Wir sind laut. Und wir stehen füreinander ein. \nMovement mit Intention – kraftvoll\, dynamisch\, herausfordernd. Diese Klasse ist kein Rückzug\, sondern ein aktives Statement. Wir fließen gemeinsam durch eine energetisierende\, starke Sequenz\, die Erdung schenkt\, Mut entfacht und dich mit der kollektiven Kraft der Gemeinschaft verbindet. \nIn dieser Klasse zelebrieren wir vielfältiges Leben\, bunte Körper\, toleranten Ausdruck. Wir schaffen Raum für Empowerment und Selbstermächtigung – und wir zeigen Haltung. Gegen Diskriminierung\, gegen Rückschritte\, gegen das Vergessen. \nAlle Einnahmen gehen an Organisationen\, die queere Menschen schützen und stärken. \nDenn Pride ist kein Event – es ist Widerstand\, Gemeinschaft und gelebte Hoffnung. \nLet’s rise up. Together. Für eine Gesellschaft\, in der jede*r sicher sein kann.
URL:https://www.rootsyoga.de/yoga-event/practice-for-pride-wir-sind-hier-um-zu-bleiben-power-pride-class-2025/
ATTACH;FMTTYPE=image/jpeg:https://www.rootsyoga.de/wp-content/uploads/2022/07/IMG_5051-1-e1753100261854.jpg
END:VEVENT
END:VCALENDAR