BEGIN:VCALENDAR
VERSION:2.0
PRODID:-//RootsYoga - ECPv6.15.14//NONSGML v1.0//EN
CALSCALE:GREGORIAN
METHOD:PUBLISH
X-WR-CALNAME:RootsYoga
X-ORIGINAL-URL:https://www.rootsyoga.de
X-WR-CALDESC:Veranstaltungen für RootsYoga
REFRESH-INTERVAL;VALUE=DURATION:PT1H
X-Robots-Tag:noindex
X-PUBLISHED-TTL:PT1H
BEGIN:VTIMEZONE
TZID:Europe/Berlin
BEGIN:DAYLIGHT
TZOFFSETFROM:+0100
TZOFFSETTO:+0200
TZNAME:CEST
DTSTART:20240331T010000
END:DAYLIGHT
BEGIN:STANDARD
TZOFFSETFROM:+0200
TZOFFSETTO:+0100
TZNAME:CET
DTSTART:20241027T010000
END:STANDARD
BEGIN:DAYLIGHT
TZOFFSETFROM:+0100
TZOFFSETTO:+0200
TZNAME:CEST
DTSTART:20250330T010000
END:DAYLIGHT
BEGIN:STANDARD
TZOFFSETFROM:+0200
TZOFFSETTO:+0100
TZNAME:CET
DTSTART:20251026T010000
END:STANDARD
BEGIN:DAYLIGHT
TZOFFSETFROM:+0100
TZOFFSETTO:+0200
TZNAME:CEST
DTSTART:20260329T010000
END:DAYLIGHT
BEGIN:STANDARD
TZOFFSETFROM:+0200
TZOFFSETTO:+0100
TZNAME:CET
DTSTART:20261025T010000
END:STANDARD
END:VTIMEZONE
BEGIN:VEVENT
DTSTART;TZID=Europe/Berlin:20251003T123000
DTEND;TZID=Europe/Berlin:20251003T140000
DTSTAMP:20260421T065338
CREATED:20250923T114522Z
LAST-MODIFIED:20250927T074848Z
UID:10000219-1759494600-1759500000@www.rootsyoga.de
SUMMARY:Spendenklasse - Yogaspirit & Sound für die Kim Flint Foundation (VOR ORT)
DESCRIPTION:Manchmal reicht Bewegung allein nicht. Manchmal braucht es auch Klang\, Stille und die Erinnerung daran\, dass wir verbunden sind. Die Intention: gemeinsam etwas bewegen – auf der Matte und darüber hinaus. Wir praktizieren eine 1\,5-stündige Jivamukti-Klasse\, fließend\, kraftvoll\, durchdrungen von Musik\, Spirit und Klarheit. \nKrebs betrifft viele. Doch manche Diagnosen bleiben im Schatten. Selten\, kaum erforscht\, wenig behandelt. \nDas Nebennierenkarzinom ist eine dieser Krankheiten. Kim lebt mit einem seltenen\, aggressiven Krebs. Ihre Geschichte ist nicht nur eine persönliche\, sondern auch eine strukturelle: Es fehlt an Forschung\, an Sichtbarkeit\, an Zeit. Und genau deshalb braucht es mehr: mehr Gemeinsamkeit! \nKim hat mit ihrer Kim Flint Foundation einen Grundstein dafür gesetzt\, dass diese seltene Erkrankung Sichtbarkeit bekommt – mit Engagement für Fortschritt in der Krebsmedizin. \nDas Besondere dieser Klasse: \nEine Jivamutki Open für den Spirit mit anschließend verlängertem Sound-Savasana. Heilende Klänge\, die dich tief entspannen\, erden und verbinden. Ein Moment der Stille. Der Erinnerung. Und der Hoffnung. \nDiese Klasse ist kostenfrei. \nAlle Spenden gehen direkt an die Kim Flint Foundation und fließen in die Forschung gegen die seltene Krebserkrankung. \nSpende direkt über ihre Webseite: https://www.kim-flint-foundation.com/spenden oder bringe Bargeld mit! \n🧡 Dein Atem kann Teil einer Veränderung sein. \n🧡 Deine Praxis kann einen Unterschied machen. \n🧡 Deine Spende kann Leben verlängern. \nLass uns gemeinsam Raum schaffen – für mehr Wissen\, mehr Heilung\, mehr Zukunft. \nFür alle\, die kämpfen. Für alle\, die hoffen. Für alle\, die noch hier sind.
URL:https://www.rootsyoga.de/yoga-event/spendenklasse-yogaspirit-sound-fuer-die-kim-flint-foundation-vor-ort/
CATEGORIES:Event,Special
ATTACH;FMTTYPE=image/jpeg:https://www.rootsyoga.de/wp-content/uploads/2025/09/WhatsApp-Image-2025-09-21-at-08.08.32.jpeg
END:VEVENT
BEGIN:VEVENT
DTSTART;TZID=Europe/Berlin:20251004T173000
DTEND;TZID=Europe/Berlin:20251004T193000
DTSTAMP:20260421T065338
CREATED:20250926T151432Z
LAST-MODIFIED:20251013T173614Z
UID:10000226-1759599000-1759606200@www.rootsyoga.de
SUMMARY:Roots Special Community Class mit Janka & Marie
DESCRIPTION:Janka und Marie laden euch zu einer ganz besonderen Special-Klasse in unser Roots Yoga Studio ein. Gemeinsam unterrichten wir eine kraftvolle Jivamukti-Sequenz zu zweit\, die euch sowohl energetisch fordert\, als auch mit perfekten hands-on-assists durch die Stunde führt. Die Yoga Klasse wird am Ende mit einem wohltuenden Sound Bath und kleinen Massagen ausklingen. \n*Dieses Event ist ausschließlich für Teilnehmer*innen buchbar\, die unsere eigenen Roots Yoga Produkte erworben haben. Bitte beachtet: Eine Teilnahme über Urban Sports Club vor Ort ist für dieses Special nicht möglich. USC ONLINE Member können teilnehmen. Alle Urban Sports Club Mitglieder die ebenfalls vor Ort dabei sein wollen\, sind selbstverständlich auch herzlich willkommen\, sobald sie ein Produkt von uns erwerben.  \nSprecht uns gern bei allen weiteren Fragen dazu und auch sonst unter: support@rootsyoga.de an. \nWir freuen uns darauf\, mit euch gemeinsam diese besondere Zeit im Roots Yoga Studio zu verbringen!
URL:https://www.rootsyoga.de/yoga-event/roots-special-class-mit-janka-marie-online/
CATEGORIES:Community Class,Event,Online,Special
ATTACH;FMTTYPE=image/jpeg:https://www.rootsyoga.de/wp-content/uploads/2025/01/2024_01_09_roots_yoga_45_janka_marie_0297.jpg
END:VEVENT
BEGIN:VEVENT
DTSTART;TZID=Europe/Berlin:20251005T150000
DTEND;TZID=Europe/Berlin:20251005T160000
DTSTAMP:20260421T065338
CREATED:20250505T195057Z
LAST-MODIFIED:20250924T080506Z
UID:10000183-1759676400-1759680000@www.rootsyoga.de
SUMMARY:Sound Bath mit Ali
DESCRIPTION:Eine Klangmeditation mit Kristallschalen hat auf unseren gesamtem Organismus eine heilende und entspannende Wirkung. Der pure Sound dieser Klangschalen ist in der Lage\, sowohl physisch als auch energetisch unsere Blockaden zu lockern und dadurch Platz für Heilung entstehen zu lassen. Die verschiedenen Vibrationen der Schalen haben durch ihre Zusammensetzung die Fähigkeit unser Unterbewusstsein aufzuwecken. \nBEI MONDPHASEN: Um in den tiefen Kontakt mit sich selbst zu treten\, nutzen wir in den richtigen Phasen die Kraft des Mondes. Bei einem Neumondritual beispielsweise wird der Blick mit Hilfe des Sounds der Klangschalen nach Innen gerichtet\, um danach gestärkt die bevorstehende Mondphase zu beginnen. \nTUNE IN AND ZOOM OUT \nDas Sound Bath findet in einer angenehmen liegenden Position statt. Es ist eine tolle Gelegenheit dem Kopf Leerlauf zu gönnen und Stress vor der Tür zu lassen. \nWir freuen uns auf auf dich!
URL:https://www.rootsyoga.de/yoga-event/roots-x-saturday-special-jivamukti-chakra-tuning-class-xl-online/
CATEGORIES:Event,Soundbath
ATTACH;FMTTYPE=image/jpeg:https://www.rootsyoga.de/wp-content/uploads/2025/05/Sound-Bath-Ali-e1758695380442.jpeg
END:VEVENT
BEGIN:VEVENT
DTSTART;TZID=Europe/Berlin:20251010T200000
DTEND;TZID=Europe/Berlin:20251010T210000
DTSTAMP:20260421T065338
CREATED:20250921T183955Z
LAST-MODIFIED:20251013T173314Z
UID:10000217-1760126400-1760130000@www.rootsyoga.de
SUMMARY:Roots Community Kirtan (VOR ORT)
DESCRIPTION:Erlebe einen besonders klangvollen Kirtan mit dem Rootsteam. \nAlle unsere LehrerInnen haben eine besondere Art zu chanten und zu singen. Spüre an diesem Abend die Resonanzen der verschiedenen Stimmen unserer Rooties und lass dich von den Klängen mitreißen. \nEs heißt\, dass Sound und Vibration zusammen Energie ist und dass wir selbst\, Energie sind. Der menschliche Körper besteht aus ca. 50 % Wasser oder sogar mehr. Wasser ist der beste Leiter für Klang\, Vibration und Musik. All diese drei Dinge haben eine sehr hohe Resonanz auf uns Menschen und eine besondere Wirkung auf uns. \nMantren und die alten yogischen Schriften sind in Sanskrit\, die Sprache des Yogas\, ausgelegt. Die Sprache Sanskrit hat eine sehr spezielle Dynamik und Frequenz\, die eine sehr kraftvolle und heilende Wirkung auf uns hat. Wenn wir Mantren chanten oder singen\, sind wir in der Lage diese Vibrationen in uns zu spüren\, die diese Klänge und Sounds produzieren. Denn wir sind das Instrument selbst\, nicht ein Gegenstand\, den wir in unseren Händen halten und spielen. Diese Vibrationen kreieren und wirbeln Energie auf\, die wir bewusst spüren und wahrnehmen und was uns schließlich zur Ruhe und zur Entspannung unseres Gedankenflusses führt. \nDie Teilnahme ist kostenfrei
URL:https://www.rootsyoga.de/yoga-event/kirtan-mit-nils-dem-roots-team-vor-ort/
LOCATION:Roots Yoga Studio\, Mittelweg 146\, Hamburg\, 20148\, Deutschland
CATEGORIES:Kirtan,Satsang
ATTACH;FMTTYPE=image/jpeg:https://www.rootsyoga.de/wp-content/uploads/2024/02/2024_01_09_roots_yoga_52_stills_1937.jpg
END:VEVENT
BEGIN:VEVENT
DTSTART;TZID=Europe/Berlin:20251010T200000
DTEND;TZID=Europe/Berlin:20251010T210000
DTSTAMP:20260421T065338
CREATED:20250921T184109Z
LAST-MODIFIED:20251013T173304Z
UID:10000218-1760126400-1760130000@www.rootsyoga.de
SUMMARY:Roots Community Kirtan (ONLINE)
DESCRIPTION:Erlebe einen besonders klangvollen Kirtan mit dem Rootsteam. \nAlle unsere Lehrer:innen haben eine besondere Art zu chanten und zu singen. Spüre an diesem Abend die Resonanzen der verschiedenen Stimmen unserer Rooties und lass dich von den Klängen mitreißen. \nEs heißt\, dass Sound und Vibration zusammen Energie ist und dass wir selbst\, Energie sind. Der menschliche Körper besteht aus ca. 50 % Wasser oder sogar mehr. Wasser ist der beste Leiter für Klang\, Vibration und Musik. All diese drei Dinge haben eine sehr hohe Resonanz auf uns Menschen und eine besondere Wirkung auf uns. \nMantren und die alten yogischen Schriften sind in Sanskrit\, die Sprache des Yogas\, ausgelegt. Die Sprache Sanskrit hat eine sehr spezielle Dynamik und Frequenz\, die eine sehr kraftvolle und heilende Wirkung auf uns hat. Wenn wir Mantren chanten oder singen\, sind wir in der Lage diese Vibrationen in uns zu spüren\, die diese Klänge und Sounds produzieren. Denn wir sind das Instrument selbst\, nicht ein Gegenstand\, den wir in unseren Händen halten und spielen. Diese Vibrationen kreieren und wirbeln Energie auf\, die wir bewusst spüren und wahrnehmen und was uns schließlich zur Ruhe und zur Entspannung unseres Gedankenflusses führt. \nDie Teilnahme ist kostenfrei
URL:https://www.rootsyoga.de/yoga-event/kirtan-mit-nils-dem-roots-team-online/
LOCATION:Roots Yoga Studio\, Mittelweg 146\, Hamburg\, 20148\, Deutschland
CATEGORIES:Kirtan,Online,Satsang
ATTACH;FMTTYPE=image/jpeg:https://www.rootsyoga.de/wp-content/uploads/2024/02/2024_01_09_roots_yoga_52_stills_1937.jpg
END:VEVENT
BEGIN:VEVENT
DTSTART;TZID=Europe/Berlin:20251021T183000
DTEND;TZID=Europe/Berlin:20251021T200000
DTSTAMP:20260421T065338
CREATED:20250401T070833Z
LAST-MODIFIED:20250401T070833Z
UID:10000162-1761071400-1761076800@www.rootsyoga.de
SUMMARY:Jivamukti Open mit Rima (VOR ORT)
DESCRIPTION:Eine Jivamukti Open Klasse beinhaltet dynamische und physisch herausfordernde Vinyasa Sequenzen\, bewusste Führung des Atems – unterstützt von den Anleitungen und Assists des Lehrers. Die Yogahaltungen (Asanas) haben dabei unterschiedliche Schwierigkeitsgrade für Beginner und Fortgeschrittene. In jeder Open Stunde wird Musik gespielt\, werden traditionelle Schriften rezitiert\, gemeinsam Mantra gesungen (gechantet) und meditiert. \nIn der Open Class\, wie sie auch genannt wird\, werden klassische Yoga-Lehren aufgegriffen und für unser modernes Leben verständlich gemacht. Die Inspirationen dazu liefert der Focus of the Month (Fokus des Monats) – ein Essay\, der monatlich erscheint und jeweils von einer:m Senior-Lehrer:in der Jivamukti Methode geschrieben worden ist. Die Jivamukti Open Klassen sind für jede/jeden geeignet\, egal ob du seit 20 Jahren praktizierst\, oder dich dein Weg gerade erst zum Yoga geführt hat. \nPreise: \n\nDropIn (Vor Ort): 25€\nDropIn (Online): 7\,50€\nProbewochen (einmalig für 2 Wochen): 39\,00€\n10er-Karte VOR ORT (3 Monate gültig): 179\,00 €\n10er-Karte VOR ORT (6 Monate gültig): 199\,00 €\n10er-Karte ONLINE (3 Monate gültig): 59\,00 €\n10er-Karte ONLINE (4 Jahre gültig): 249\,00 €\n\nStornierungsregeln für Klassen\, Workshops & Events bei Roots Yoga \n\nKlassen können bis zu 24 Stunden vor Beginn storniert werden. In diesem Fall wird die Klasse als Guthaben auf deinem Account gutgeschrieben.\nEine Rückerstattung des Geldes ist nicht möglich – das Guthaben kann jedoch für zukünftige Buchungen genutzt werden.\nNach Abschluss der Buchung ist eine Rückerstattung ausgeschlossen – unabhängig vom Grund der Stornierung.\nBuchungen sind nicht auf Dritte übertragbar und können nur vom ursprünglichen Käufer genutzt werden.\n\nFalls du noch Fragen hast\, melde dich gerne bei uns: hello@rootsyoga.de. \n  \n 
URL:https://www.rootsyoga.de/yoga-event/jivamukti-open-mit-rima-vor-ort/
CATEGORIES:Event,Special Guests
ATTACH;FMTTYPE=image/jpeg:https://www.rootsyoga.de/wp-content/uploads/2025/04/Rima-Rabbath.jpg
END:VEVENT
BEGIN:VEVENT
DTSTART;TZID=Europe/Berlin:20251021T183000
DTEND;TZID=Europe/Berlin:20251021T200000
DTSTAMP:20260421T065338
CREATED:20250401T071138Z
LAST-MODIFIED:20250401T071138Z
UID:10000161-1761071400-1761076800@www.rootsyoga.de
SUMMARY:Jivamukti Open mit Rima (ONLINE)
DESCRIPTION:Eine Jivamukti Open Klasse beinhaltet dynamische und physisch herausfordernde Vinyasa Sequenzen\, bewusste Führung des Atems – unterstützt von den Anleitungen und Assists des Lehrers. Die Yogahaltungen (Asanas) haben dabei unterschiedliche Schwierigkeitsgrade für Beginner und Fortgeschrittene. In jeder Open Stunde wird Musik gespielt\, werden traditionelle Schriften rezitiert\, gemeinsam Mantra gesungen (gechantet) und meditiert. \nIn der Open Class\, wie sie auch genannt wird\, werden klassische Yoga-Lehren aufgegriffen und für unser modernes Leben verständlich gemacht. Die Inspirationen dazu liefert der Focus of the Month (Fokus des Monats) – ein Essay\, der monatlich erscheint und jeweils von einer:m Senior-Lehrer:in der Jivamukti Methode geschrieben worden ist. Die Jivamukti Open Klassen sind für jede/jeden geeignet\, egal ob du seit 20 Jahren praktizierst\, oder dich dein Weg gerade erst zum Yoga geführt hat. \n  \nPreise: \n\nDropIn (Vor Ort): 25€\nDropIn (Online): 7\,50€\nProbewochen (einmalig für 2 Wochen): 39\,00€\n10er-Karte VOR ORT (3 Monate gültig): 179\,00 €\n10er-Karte VOR ORT (6 Monate gültig): 199\,00 €\n10er-Karte ONLINE (3 Monate gültig): 59\,00 €\n10er-Karte ONLINE (4 Jahre gültig): 249\,00 €\n\n  \nStornierungsregeln für Klassen\, Workshops & Events bei Roots Yoga \n\nKlassen können bis zu 24 Stunden vor Beginn storniert werden. In diesem Fall wird die Klasse als Guthaben auf deinem Account gutgeschrieben.\nEine Rückerstattung des Geldes ist nicht möglich – das Guthaben kann jedoch für zukünftige Buchungen genutzt werden.\nNach Abschluss der Buchung ist eine Rückerstattung ausgeschlossen – unabhängig vom Grund der Stornierung.\nBuchungen sind nicht auf Dritte übertragbar und können nur vom ursprünglichen Käufer genutzt werden.\n\nFalls du noch Fragen hast\, melde dich gerne bei uns: hello@rootsyoga.de. \n  \n 
URL:https://www.rootsyoga.de/yoga-event/jivamukti-open-mit-rima-online/
CATEGORIES:Event,Online,Special Guests
ATTACH;FMTTYPE=image/jpeg:https://www.rootsyoga.de/wp-content/uploads/2025/04/Rima-Rabbath.jpg
END:VEVENT
BEGIN:VEVENT
DTSTART;TZID=Europe/Berlin:20251021T201500
DTEND;TZID=Europe/Berlin:20251021T211500
DTSTAMP:20260421T065338
CREATED:20250401T072156Z
LAST-MODIFIED:20251013T173244Z
UID:10000166-1761077700-1761081300@www.rootsyoga.de
SUMMARY:Roots Community Kirtan & Satsang (VOR ORT)
DESCRIPTION:Erlebe einen besonders klangvollen Kirtan mit Rima. \nSpüre an diesem Abend die Resonanzen der verschiedenen Stimmen unserer Rooties und lass dich von den Klängen mitreißen. \nEs heißt\, dass Sound und Vibration zusammen Energie ist und dass wir selbst\, Energie sind. Der menschliche Körper besteht aus ca. 50 % Wasser oder sogar mehr. Wasser ist der beste Leiter für Klang\, Vibration und Musik. All diese drei Dinge haben eine sehr hohe Resonanz auf uns Menschen und eine besondere Wirkung auf uns. \nMantren und die alten yogischen Schriften sind in Sanskrit\, die Sprache des Yogas\, ausgelegt. Die Sprache Sanskrit hat eine sehr spezielle Dynamik und Frequenz\, die eine sehr kraftvolle und heilende Wirkung auf uns hat. Wenn wir Mantren chanten oder singen\, sind wir in der Lage diese Vibrationen in uns zu spüren\, die diese Klänge und Sounds produzieren. Denn wir sind das Instrument selbst\, nicht ein Gegenstand\, den wir in unseren Händen halten und spielen. Diese Vibrationen kreieren und wirbeln Energie auf\, die wir bewusst spüren und wahrnehmen und was uns schließlich zur Ruhe und zur Entspannung unseres Gedankenflusses führt. \n\nSatsang (Sanskrit: सत्सङ्ग satsaṅga m.; Hindi: सत्संग satsaṃg m.; von sat = wahr\, sanga = Umgang) bedeutet übersetzt: Zusammensein mit der Wahrheit. Anders formuliert: Beim Satsang wird meistens zusammen Meditiert und Kirtan gesungen (Singen in Ruf und Antwort)\, oder Geschichten aus der Yoga Philosophie näher gebracht und Fragen und Antworten gestellt – alles unter Anleitung des Lehrers. \n\nDie Teilnahme ist kostenfrei
URL:https://www.rootsyoga.de/yoga-event/kirtan-satsang-mit-rima-vor-ort/
LOCATION:Roots Yoga Studio\, Mittelweg 146\, Hamburg\, 20148\, Deutschland
CATEGORIES:Kirtan,Satsang
ATTACH;FMTTYPE=image/jpeg:https://www.rootsyoga.de/wp-content/uploads/2025/04/Kirtan-Satsang-Rima-Sabbath-Guest-Teacher-Roots-Yoga-Hamburg-e1743492047568.jpeg
END:VEVENT
BEGIN:VEVENT
DTSTART;TZID=Europe/Berlin:20251022T090000
DTEND;TZID=Europe/Berlin:20251022T103000
DTSTAMP:20260421T065338
CREATED:20250401T071346Z
LAST-MODIFIED:20250401T071346Z
UID:10000164-1761123600-1761129000@www.rootsyoga.de
SUMMARY:Jivamukti Open mit Rima (VOR ORT)
DESCRIPTION:Eine Jivamukti Open Klasse beinhaltet dynamische und physisch herausfordernde Vinyasa Sequenzen\, bewusste Führung des Atems – unterstützt von den Anleitungen und Assists des Lehrers. Die Yogahaltungen (Asanas) haben dabei unterschiedliche Schwierigkeitsgrade für Beginner und Fortgeschrittene. In jeder Open Stunde wird Musik gespielt\, werden traditionelle Schriften rezitiert\, gemeinsam Mantra gesungen (gechantet) und meditiert. \nIn der Open Class\, wie sie auch genannt wird\, werden klassische Yoga-Lehren aufgegriffen und für unser modernes Leben verständlich gemacht. Die Inspirationen dazu liefert der Focus of the Month (Fokus des Monats) – ein Essay\, der monatlich erscheint und jeweils von einer:m Senior-Lehrer:in der Jivamukti Methode geschrieben worden ist. Die Jivamukti Open Klassen sind für jede/jeden geeignet\, egal ob du seit 20 Jahren praktizierst\, oder dich dein Weg gerade erst zum Yoga geführt hat. \nPreise: \n\nDropIn (Vor Ort): 25€\nDropIn (Online): 7\,50€\nProbewochen (einmalig für 2 Wochen): 39\,00€\n10er-Karte VOR ORT (3 Monate gültig): 179\,00 €\n10er-Karte VOR ORT (6 Monate gültig): 199\,00 €\n10er-Karte ONLINE (3 Monate gültig): 59\,00 €\n10er-Karte ONLINE (4 Jahre gültig): 249\,00 €\n\nStornierungsregeln für Klassen\, Workshops & Events bei Roots Yoga \n\nKlassen können bis zu 24 Stunden vor Beginn storniert werden. In diesem Fall wird die Klasse als Guthaben auf deinem Account gutgeschrieben.\nEine Rückerstattung des Geldes ist nicht möglich – das Guthaben kann jedoch für zukünftige Buchungen genutzt werden.\nNach Abschluss der Buchung ist eine Rückerstattung ausgeschlossen – unabhängig vom Grund der Stornierung.\nBuchungen sind nicht auf Dritte übertragbar und können nur vom ursprünglichen Käufer genutzt werden.\n\nFalls du noch Fragen hast\, melde dich gerne bei uns: hello@rootsyoga.de. \n  \n 
URL:https://www.rootsyoga.de/yoga-event/jivamukti-open-mit-rima-vor-ort-2/
CATEGORIES:Event,Special Guests
ATTACH;FMTTYPE=image/jpeg:https://www.rootsyoga.de/wp-content/uploads/2025/04/Rima-Rabbath.jpg
END:VEVENT
BEGIN:VEVENT
DTSTART;TZID=Europe/Berlin:20251022T090000
DTEND;TZID=Europe/Berlin:20251022T103000
DTSTAMP:20260421T065338
CREATED:20250401T071541Z
LAST-MODIFIED:20250401T071636Z
UID:10000165-1761123600-1761129000@www.rootsyoga.de
SUMMARY:Jivamukti Open mit Rima (ONLINE)
DESCRIPTION:Eine Jivamukti Open Klasse beinhaltet dynamische und physisch herausfordernde Vinyasa Sequenzen\, bewusste Führung des Atems – unterstützt von den Anleitungen und Assists des Lehrers. Die Yogahaltungen (Asanas) haben dabei unterschiedliche Schwierigkeitsgrade für Beginner und Fortgeschrittene. In jeder Open Stunde wird Musik gespielt\, werden traditionelle Schriften rezitiert\, gemeinsam Mantra gesungen (gechantet) und meditiert. \nIn der Open Class\, wie sie auch genannt wird\, werden klassische Yoga-Lehren aufgegriffen und für unser modernes Leben verständlich gemacht. Die Inspirationen dazu liefert der Focus of the Month (Fokus des Monats) – ein Essay\, der monatlich erscheint und jeweils von einer:m Senior-Lehrer:in der Jivamukti Methode geschrieben worden ist. Die Jivamukti Open Klassen sind für jede/jeden geeignet\, egal ob du seit 20 Jahren praktizierst\, oder dich dein Weg gerade erst zum Yoga geführt hat. \nPreise: \n\nDropIn (Vor Ort): 25€\nDropIn (Online): 7\,50€\nProbewochen (einmalig für 2 Wochen): 39\,00€\n10er-Karte VOR ORT (3 Monate gültig): 179\,00 €\n10er-Karte VOR ORT (6 Monate gültig): 199\,00 €\n10er-Karte ONLINE (3 Monate gültig): 59\,00 €\n10er-Karte ONLINE (4 Jahre gültig): 249\,00 €\n\nStornierungsregeln für Klassen\, Workshops & Events bei Roots Yoga \n\nKlassen können bis zu 24 Stunden vor Beginn storniert werden. In diesem Fall wird die Klasse als Guthaben auf deinem Account gutgeschrieben.\nEine Rückerstattung des Geldes ist nicht möglich – das Guthaben kann jedoch für zukünftige Buchungen genutzt werden.\nNach Abschluss der Buchung ist eine Rückerstattung ausgeschlossen – unabhängig vom Grund der Stornierung.\nBuchungen sind nicht auf Dritte übertragbar und können nur vom ursprünglichen Käufer genutzt werden.\n\nFalls du noch Fragen hast\, melde dich gerne bei uns: hello@rootsyoga.de. \n  \n 
URL:https://www.rootsyoga.de/yoga-event/jivamukti-open-mit-rima-online-2/
CATEGORIES:Event,Online,Special Guests
ATTACH;FMTTYPE=image/jpeg:https://www.rootsyoga.de/wp-content/uploads/2025/04/Rima-Rabbath.jpg
END:VEVENT
BEGIN:VEVENT
DTSTART;TZID=Europe/Berlin:20251026T150000
DTEND;TZID=Europe/Berlin:20251026T160000
DTSTAMP:20260421T065338
CREATED:20250417T151005Z
LAST-MODIFIED:20250822T171731Z
UID:10000179-1761490800-1761494400@www.rootsyoga.de
SUMMARY:Sound Bath mit Lou
DESCRIPTION:Eine Klangmeditation mit Kristallschalen hat auf unseren gesamtem Organismus eine heilende und entspannende Wirkung. Der pure Sound dieser Klangschalen ist in der Lage\, sowohl physisch als auch energetisch unsere Blockaden zu lockern und dadurch Platz für Heilung entstehen zu lassen. Die verschiedenen Vibrationen der Schalen haben durch ihre Zusammensetzung die Fähigkeit unser Unterbewusstsein aufzuwecken. \nBEI MONDPHASEN: Um in den tiefen Kontakt mit sich selbst zu treten\, nutzen wir in den richtigen Phasen die Kraft des Mondes. Bei einem Neumondritual beispielsweise wird der Blick mit Hilfe des Sounds der Klangschalen nach Innen gerichtet\, um danach gestärkt die bevorstehende Mondphase zu beginnen. \nTUNE IN AND ZOOM OUT \nDas Sound Bath findet in einer angenehmen liegenden Position statt. Es ist eine tolle Gelegenheit dem Kopf Leerlauf zu gönnen und Stress vor der Tür zu lassen. \nWir freuen uns auf auf dich!
URL:https://www.rootsyoga.de/yoga-event/kirtan-mit-dem-rootsteam-online/
LOCATION:Roots Yoga Studio\, Mittelweg 146\, Hamburg\, 20148\, Deutschland
CATEGORIES:Event,Soundbath
ATTACH;FMTTYPE=image/jpeg:https://www.rootsyoga.de/wp-content/uploads/2025/03/Soundbath-und-Yoga-Nidra-mit-Lou.jpg
END:VEVENT
END:VCALENDAR