BEGIN:VCALENDAR
VERSION:2.0
PRODID:-//RootsYoga - ECPv6.15.14//NONSGML v1.0//EN
CALSCALE:GREGORIAN
METHOD:PUBLISH
X-ORIGINAL-URL:https://www.rootsyoga.de
X-WR-CALDESC:Veranstaltungen für RootsYoga
REFRESH-INTERVAL;VALUE=DURATION:PT1H
X-Robots-Tag:noindex
X-PUBLISHED-TTL:PT1H
BEGIN:VTIMEZONE
TZID:Europe/Berlin
BEGIN:DAYLIGHT
TZOFFSETFROM:+0100
TZOFFSETTO:+0200
TZNAME:CEST
DTSTART:20240331T010000
END:DAYLIGHT
BEGIN:STANDARD
TZOFFSETFROM:+0200
TZOFFSETTO:+0100
TZNAME:CET
DTSTART:20241027T010000
END:STANDARD
BEGIN:DAYLIGHT
TZOFFSETFROM:+0100
TZOFFSETTO:+0200
TZNAME:CEST
DTSTART:20250330T010000
END:DAYLIGHT
BEGIN:STANDARD
TZOFFSETFROM:+0200
TZOFFSETTO:+0100
TZNAME:CET
DTSTART:20251026T010000
END:STANDARD
BEGIN:DAYLIGHT
TZOFFSETFROM:+0100
TZOFFSETTO:+0200
TZNAME:CEST
DTSTART:20260329T010000
END:DAYLIGHT
BEGIN:STANDARD
TZOFFSETFROM:+0200
TZOFFSETTO:+0100
TZNAME:CET
DTSTART:20261025T010000
END:STANDARD
END:VTIMEZONE
BEGIN:VEVENT
DTSTART;TZID=Europe/Berlin:20250905T200000
DTEND;TZID=Europe/Berlin:20250905T210000
DTSTAMP:20260421T233507
CREATED:20241230T102140Z
LAST-MODIFIED:20250815T185825Z
UID:10000129-1757102400-1757106000@www.rootsyoga.de
SUMMARY:Kirtan mit dem Rootsteam (ONLINE)
DESCRIPTION:Erlebe einen besonders klangvollen Kirtan mit dem Rootsteam. \nAlle unsere LehrerInnen haben eine besondere Art zu chanten und zu singen. Spüre an diesem Abend die Resonanzen der verschiedenen Stimmen unserer Rooties und lass dich von den Klängen mitreißen. \nEs heißt\, dass Sound und Vibration zusammen Energie ist und dass wir selbst\, Energie sind. Der menschliche Körper besteht aus ca. 50 % Wasser oder sogar mehr. Wasser ist der beste Leiter für Klang\, Vibration und Musik. All diese drei Dinge haben eine sehr hohe Resonanz auf uns Menschen und eine besondere Wirkung auf uns. \nMantren und die alten yogischen Schriften sind in Sanskrit\, die Sprache des Yogas\, ausgelegt. Die Sprache Sanskrit hat eine sehr spezielle Dynamik und Frequenz\, die eine sehr kraftvolle und heilende Wirkung auf uns hat. Wenn wir Mantren chanten oder singen\, sind wir in der Lage diese Vibrationen in uns zu spüren\, die diese Klänge und Sounds produzieren. Denn wir sind das Instrument selbst\, nicht ein Gegenstand\, den wir in unseren Händen halten und spielen. Diese Vibrationen kreieren und wirbeln Energie auf\, die wir bewusst spüren und wahrnehmen und was uns schließlich zur Ruhe und zur Entspannung unseres Gedankenflusses führt. \nDie Teilnahme ist kostenfrei.
URL:https://www.rootsyoga.de/yoga-event/kirtan-mit-dem-rootsteam-online-2/
LOCATION:Roots Yoga Studio\, Mittelweg 146\, Hamburg\, 20148\, Deutschland
CATEGORIES:Online
ATTACH;FMTTYPE=image/jpeg:https://www.rootsyoga.de/wp-content/uploads/2023/05/image087-Kopie.jpeg
END:VEVENT
BEGIN:VEVENT
DTSTART;TZID=Europe/Berlin:20250905T200000
DTEND;TZID=Europe/Berlin:20250905T210000
DTSTAMP:20260421T233507
CREATED:20250612T120647Z
LAST-MODIFIED:20250815T190456Z
UID:10000201-1757102400-1757106000@www.rootsyoga.de
SUMMARY:Kirtan mit dem Rootsteam (vor Ort)
DESCRIPTION:Erlebe einen besonders klangvollen Kirtan mit dem Rootsteam. \nAlle unsere LehrerInnen haben eine besondere Art zu chanten und zu singen. Spüre an diesem Abend die Resonanzen der verschiedenen Stimmen unserer Rooties und lass dich von den Klängen mitreißen. \nEs heißt\, dass Sound und Vibration zusammen Energie ist und dass wir selbst\, Energie sind. Der menschliche Körper besteht aus ca. 50 % Wasser oder sogar mehr. Wasser ist der beste Leiter für Klang\, Vibration und Musik. All diese drei Dinge haben eine sehr hohe Resonanz auf uns Menschen und eine besondere Wirkung auf uns. \nMantren und die alten yogischen Schriften sind in Sanskrit\, die Sprache des Yogas\, ausgelegt. Die Sprache Sanskrit hat eine sehr spezielle Dynamik und Frequenz\, die eine sehr kraftvolle und heilende Wirkung auf uns hat. Wenn wir Mantren chanten oder singen\, sind wir in der Lage diese Vibrationen in uns zu spüren\, die diese Klänge und Sounds produzieren. Denn wir sind das Instrument selbst\, nicht ein Gegenstand\, den wir in unseren Händen halten und spielen. Diese Vibrationen kreieren und wirbeln Energie auf\, die wir bewusst spüren und wahrnehmen und was uns schließlich zur Ruhe und zur Entspannung unseres Gedankenflusses führt. \nDie Teilnahme ist kostenfrei.
URL:https://www.rootsyoga.de/yoga-event/kirtan-mit-dem-rootsteam-online-3/
LOCATION:Roots Yoga Studio\, Mittelweg 146\, Hamburg\, 20148\, Deutschland
CATEGORIES:Kirtan
ATTACH;FMTTYPE=image/jpeg:https://www.rootsyoga.de/wp-content/uploads/2023/05/image087-Kopie.jpeg
END:VEVENT
BEGIN:VEVENT
DTSTART;TZID=Europe/Berlin:20250906T173000
DTEND;TZID=Europe/Berlin:20250906T193000
DTSTAMP:20260421T233507
CREATED:20250617T135324Z
LAST-MODIFIED:20250721T055344Z
UID:10000202-1757179800-1757187000@www.rootsyoga.de
SUMMARY:ROOTS x Saturday Special:  OPEN XL Flowing through the Bhagavad Gita (VOR ORT)
DESCRIPTION:Flowing through the Gita \nIn dieser besonderen Jivamukti Open XL Class lassen wir Körper\, Atem und Geist durch das reiche Wissen der Bhagavad Gita fließen. Während wir durch eine kraftvolle und bewusste Asana-Praxis gehen\, begleiten uns die Weisheiten dieses zeitlosen Textes – voller Inspiration für Mut\, Klarheit und inneres Gleichgewicht. Die Gita spricht von Entscheidungen\, vom Loslassen und vom Gehen des eigenen Weges – Themen\, die uns auch auf der Matte begegnen. Lass dich berühren von Worten\, die durch dich hindurch wirken dürfen – nicht nur intellektuell\, sondern erfahrbar im eigenen Körper.\nAlle Level willkommen – come as you are!
URL:https://www.rootsyoga.de/yoga-event/roots-x-saturday-special-open-xl-flowing-through-the-bhagavad-gita-vor-ort/
CATEGORIES:Event,Special
ATTACH;FMTTYPE=image/jpeg:https://www.rootsyoga.de/wp-content/uploads/2025/06/Saturday-Special-Thomas-Zielienski-Roots-Yoga-Hamburg-Bhagavad-Gita--e1750168387959.jpeg
END:VEVENT
BEGIN:VEVENT
DTSTART;TZID=Europe/Berlin:20250906T173000
DTEND;TZID=Europe/Berlin:20250906T193000
DTSTAMP:20260421T233507
CREATED:20250901T105646Z
LAST-MODIFIED:20250901T105646Z
UID:10000211-1757179800-1757187000@www.rootsyoga.de
SUMMARY:ROOTS x Saturday Special:  OPEN XL Flowing through the Bhagavad Gita (ONLINE)
DESCRIPTION:Flowing through the Gita \nIn dieser besonderen Jivamukti Open XL Class lassen wir Körper\, Atem und Geist durch das reiche Wissen der Bhagavad Gita fließen. Während wir durch eine kraftvolle und bewusste Asana-Praxis gehen\, begleiten uns die Weisheiten dieses zeitlosen Textes – voller Inspiration für Mut\, Klarheit und inneres Gleichgewicht. Die Gita spricht von Entscheidungen\, vom Loslassen und vom Gehen des eigenen Weges – Themen\, die uns auch auf der Matte begegnen. Lass dich berühren von Worten\, die durch dich hindurch wirken dürfen – nicht nur intellektuell\, sondern erfahrbar im eigenen Körper.\nAlle Level willkommen – come as you are!
URL:https://www.rootsyoga.de/yoga-event/roots-x-saturday-special-open-xl-flowing-through-the-bhagavad-gita-online-2/
CATEGORIES:Event,Online,Special
ATTACH;FMTTYPE=image/jpeg:https://www.rootsyoga.de/wp-content/uploads/2025/06/Saturday-Special-Thomas-Zielienski-Roots-Yoga-Hamburg-Bhagavad-Gita--e1750168387959.jpeg
END:VEVENT
END:VCALENDAR