BEGIN:VCALENDAR
VERSION:2.0
PRODID:-//RootsYoga - ECPv6.15.14//NONSGML v1.0//EN
CALSCALE:GREGORIAN
METHOD:PUBLISH
X-WR-CALNAME:RootsYoga
X-ORIGINAL-URL:https://www.rootsyoga.de
X-WR-CALDESC:Veranstaltungen für RootsYoga
REFRESH-INTERVAL;VALUE=DURATION:PT1H
X-Robots-Tag:noindex
X-PUBLISHED-TTL:PT1H
BEGIN:VTIMEZONE
TZID:Europe/Berlin
BEGIN:DAYLIGHT
TZOFFSETFROM:+0100
TZOFFSETTO:+0200
TZNAME:CEST
DTSTART:20240331T010000
END:DAYLIGHT
BEGIN:STANDARD
TZOFFSETFROM:+0200
TZOFFSETTO:+0100
TZNAME:CET
DTSTART:20241027T010000
END:STANDARD
BEGIN:DAYLIGHT
TZOFFSETFROM:+0100
TZOFFSETTO:+0200
TZNAME:CEST
DTSTART:20250330T010000
END:DAYLIGHT
BEGIN:STANDARD
TZOFFSETFROM:+0200
TZOFFSETTO:+0100
TZNAME:CET
DTSTART:20251026T010000
END:STANDARD
BEGIN:DAYLIGHT
TZOFFSETFROM:+0100
TZOFFSETTO:+0200
TZNAME:CEST
DTSTART:20260329T010000
END:DAYLIGHT
BEGIN:STANDARD
TZOFFSETFROM:+0200
TZOFFSETTO:+0100
TZNAME:CET
DTSTART:20261025T010000
END:STANDARD
END:VTIMEZONE
BEGIN:VEVENT
DTSTART;TZID=Europe/Berlin:20251101T173000
DTEND;TZID=Europe/Berlin:20251101T193000
DTSTAMP:20260421T042200
CREATED:20250713T074250Z
LAST-MODIFIED:20251013T175541Z
UID:10000206-1762018200-1762025400@www.rootsyoga.de
SUMMARY:ROOTS x SATURDAY SPECIAL: Jivamukti Yoga vs. Yoga Nidra - Dynamic Release Open XL (VOR ORT)
DESCRIPTION:In dieser 90-minütigen Klasse verbinden wir die kraftvolle\, dynamische Energie der Jivamukti Open Klasse mit der tiefen regenerativen Wirkung von Yoga Nidra. \nIm ersten Teil erwarten dich kreative\, dynamische Sequenzen\, getragen von bewusster Atmung\, inspirierender Musik und spirituellen Impulsen. Du wirst körperlich gefordert und gleichzeitig innerlich geerdet – ganz im Sinne der Jivamukti Yoga Tradition. \nIm Anschluss wirst du in Yoga Nidra\, den yogischen Schlaf\, geführt – eine geführte Tiefenentspannung\, die dich in einen Zustand zwischen Wachsein und Schlaf versetzt. Hier darfst du vollständig loslassen\, während dein Nervensystem regeneriert und dein Geist zur Ruhe kommt. \nDiese Kombination aus aktivierender Bewegung und tiefer Entspannung schafft Raum für Balance\, neue Klarheit und Verbundenheit – mit dir selbst und der Welt um dich herum.
URL:https://www.rootsyoga.de/yoga-event/roots-x-saturday-special-vinyasa-krama-in-der-jivamukti-praxis-vor-ort/
CATEGORIES:Event,Special
ATTACH;FMTTYPE=image/jpeg:https://www.rootsyoga.de/wp-content/uploads/2024/11/2024_01_09_roots_yoga_09_nils_1948-e1746474396934.jpg
END:VEVENT
BEGIN:VEVENT
DTSTART;TZID=Europe/Berlin:20251101T173000
DTEND;TZID=Europe/Berlin:20251101T193000
DTSTAMP:20260421T042200
CREATED:20250713T074535Z
LAST-MODIFIED:20251013T175837Z
UID:10000207-1762018200-1762025400@www.rootsyoga.de
SUMMARY:ROOTS x SATURDAY SPECIAL: Jivamukti Yoga vs. Yoga Nidra - Dynamic Release Open XL (ONLINE)
DESCRIPTION:In dieser 90-minütigen Klasse verbinden wir die kraftvolle\, dynamische Energie der Jivamukti Open Klasse mit der tiefen regenerativen Wirkung von Yoga Nidra. \nIm ersten Teil erwarten dich kreative\, dynamische Sequenzen\, getragen von bewusster Atmung\, inspirierender Musik und spirituellen Impulsen. Du wirst körperlich gefordert und gleichzeitig innerlich geerdet – ganz im Sinne der Jivamukti Yoga Tradition. \nIm Anschluss wirst du in Yoga Nidra\, den yogischen Schlaf\, geführt – eine geführte Tiefenentspannung\, die dich in einen Zustand zwischen Wachsein und Schlaf versetzt. Hier darfst du vollständig loslassen\, während dein Nervensystem regeneriert und dein Geist zur Ruhe kommt. \nDiese Kombination aus aktivierender Bewegung und tiefer Entspannung schafft Raum für Balance\, neue Klarheit und Verbundenheit – mit dir selbst und der Welt um dich herum.
URL:https://www.rootsyoga.de/yoga-event/roots-x-saturday-special-vinyasa-krama-in-der-jivamukti-praxis-online/
CATEGORIES:Event,Online,Special
ATTACH;FMTTYPE=image/jpeg:https://www.rootsyoga.de/wp-content/uploads/2024/11/2024_01_09_roots_yoga_09_nils_1948-e1746474396934.jpg
END:VEVENT
BEGIN:VEVENT
DTSTART;TZID=Europe/Berlin:20251102T150000
DTEND;TZID=Europe/Berlin:20251102T160000
DTSTAMP:20260421T042200
CREATED:20250612T120614Z
LAST-MODIFIED:20250822T172930Z
UID:10000200-1762095600-1762099200@www.rootsyoga.de
SUMMARY:Sound Bath mit Christina
DESCRIPTION:Eine Klangmeditation mit Kristallschalen hat auf unseren gesamtem Organismus eine heilende und entspannende Wirkung. Der pure Sound dieser Klangschalen ist in der Lage\, sowohl physisch als auch energetisch unsere Blockaden zu lockern und dadurch Platz für Heilung entstehen zu lassen. Die verschiedenen Vibrationen der Schalen haben durch ihre Zusammensetzung die Fähigkeit unser Unterbewusstsein aufzuwecken. \nBEI MONDPHASEN: Um in den tiefen Kontakt mit sich selbst zu treten\, nutzen wir in den richtigen Phasen die Kraft des Mondes. Bei einem Neumondritual beispielsweise wird der Blick mit Hilfe des Sounds der Klangschalen nach Innen gerichtet\, um danach gestärkt die bevorstehende Mondphase zu beginnen. \nTUNE IN AND ZOOM OUT \nDas Sound Bath findet in einer angenehmen liegenden Position statt. Es ist eine tolle Gelegenheit dem Kopf Leerlauf zu gönnen und Stress vor der Tür zu lassen. \nWir freuen uns auf auf dich!
URL:https://www.rootsyoga.de/yoga-event/kirtan-mit-dem-roots-team-vor-ort-3/
LOCATION:Roots Yoga Studio\, Mittelweg 146\, Hamburg\, 20148\, Deutschland
CATEGORIES:Event,Soundbath
ATTACH;FMTTYPE=image/jpeg:https://www.rootsyoga.de/wp-content/uploads/2024/02/2024_01_09_roots_yoga_15_christina_0641.jpg
END:VEVENT
END:VCALENDAR