BEGIN:VCALENDAR
VERSION:2.0
PRODID:-//RootsYoga - ECPv6.15.14//NONSGML v1.0//EN
CALSCALE:GREGORIAN
METHOD:PUBLISH
X-WR-CALNAME:RootsYoga
X-ORIGINAL-URL:https://www.rootsyoga.de
X-WR-CALDESC:Veranstaltungen für RootsYoga
REFRESH-INTERVAL;VALUE=DURATION:PT1H
X-Robots-Tag:noindex
X-PUBLISHED-TTL:PT1H
BEGIN:VTIMEZONE
TZID:Europe/Berlin
BEGIN:DAYLIGHT
TZOFFSETFROM:+0100
TZOFFSETTO:+0200
TZNAME:CEST
DTSTART:20240331T010000
END:DAYLIGHT
BEGIN:STANDARD
TZOFFSETFROM:+0200
TZOFFSETTO:+0100
TZNAME:CET
DTSTART:20241027T010000
END:STANDARD
BEGIN:DAYLIGHT
TZOFFSETFROM:+0100
TZOFFSETTO:+0200
TZNAME:CEST
DTSTART:20250330T010000
END:DAYLIGHT
BEGIN:STANDARD
TZOFFSETFROM:+0200
TZOFFSETTO:+0100
TZNAME:CET
DTSTART:20251026T010000
END:STANDARD
BEGIN:DAYLIGHT
TZOFFSETFROM:+0100
TZOFFSETTO:+0200
TZNAME:CEST
DTSTART:20260329T010000
END:DAYLIGHT
BEGIN:STANDARD
TZOFFSETFROM:+0200
TZOFFSETTO:+0100
TZNAME:CET
DTSTART:20261025T010000
END:STANDARD
END:VTIMEZONE
BEGIN:VEVENT
DTSTART;TZID=Europe/Berlin:20251115T173000
DTEND;TZID=Europe/Berlin:20251115T193000
DTSTAMP:20260421T044317
CREATED:20251013T174719Z
LAST-MODIFIED:20251013T174719Z
UID:10000238-1763227800-1763235000@www.rootsyoga.de
SUMMARY:Roots Special Community Class mit Janka & Marie (VOR ORT)
DESCRIPTION:Janka und Marie laden euch zu einer ganz besonderen Special-Klasse in unser Roots Yoga Studio ein. Gemeinsam unterrichten wir eine kraftvolle Jivamukti-Sequenz zu zweit\, die euch sowohl energetisch fordert\, als auch mit perfekten hands-on-assists durch die Stunde führt. Die Yoga Klasse wird am Ende mit einem wohltuenden Sound Bath und kleinen Massagen ausklingen. \nSprecht uns gern bei allen weiteren Fragen dazu und auch sonst unter: support@rootsyoga.de an. \nWir freuen uns darauf\, mit euch gemeinsam diese besondere Zeit im Roots Yoga Studio zu verbringen!
URL:https://www.rootsyoga.de/yoga-event/roots-special-community-class-mit-janka-marie-vor-ort/
CATEGORIES:Community Class,Event,Special
ATTACH;FMTTYPE=image/jpeg:https://www.rootsyoga.de/wp-content/uploads/2024/06/2024_01_09_roots_yoga_45_janka_marie_0291_quadrat.jpg
END:VEVENT
BEGIN:VEVENT
DTSTART;TZID=Europe/Berlin:20251115T173000
DTEND;TZID=Europe/Berlin:20251115T193000
DTSTAMP:20260421T044317
CREATED:20251013T175113Z
LAST-MODIFIED:20251013T175113Z
UID:10000239-1763227800-1763235000@www.rootsyoga.de
SUMMARY:Roots Special Community Class mit Janka & Marie (ONLINE)
DESCRIPTION:Janka und Marie laden euch zu einer ganz besonderen Special-Klasse in unser Roots Yoga Studio ein. Gemeinsam unterrichten wir eine kraftvolle Jivamukti-Sequenz zu zweit\, die euch sowohl energetisch fordert\, als auch mit perfekten hands-on-assists durch die Stunde führt. Die Yoga Klasse wird am Ende mit einem wohltuenden Sound Bath und kleinen Massagen ausklingen. \nSprecht uns gern bei allen weiteren Fragen dazu und auch sonst unter: support@rootsyoga.de an. \nWir freuen uns darauf\, mit euch gemeinsam diese besondere Zeit im Roots Yoga Studio zu verbringen!
URL:https://www.rootsyoga.de/yoga-event/roots-special-community-class-mit-janka-marie-online/
CATEGORIES:Community Class,Event,Online,Special
ATTACH;FMTTYPE=image/jpeg:https://www.rootsyoga.de/wp-content/uploads/2024/06/2024_01_09_roots_yoga_45_janka_marie_0291_quadrat.jpg
END:VEVENT
BEGIN:VEVENT
DTSTART;TZID=Europe/Berlin:20251116T150000
DTEND;TZID=Europe/Berlin:20251116T160000
DTSTAMP:20260421T044317
CREATED:20251007T140151Z
LAST-MODIFIED:20251007T140151Z
UID:10000233-1763305200-1763308800@www.rootsyoga.de
SUMMARY:Sound Bath (VOR ORT)
DESCRIPTION:Eine Klangmeditation mit Kristallschalen hat auf unseren gesamtem Organismus eine heilende und entspannende Wirkung. Der pure Sound dieser Klangschalen ist in der Lage\, sowohl physisch als auch energetisch unsere Blockaden zu lockern und dadurch Platz für Heilung entstehen zu lassen. Die verschiedenen Vibrationen der Schalen haben durch ihre Zusammensetzung die Fähigkeit unser Unterbewusstsein aufzuwecken. \nBEI MONDPHASEN: Um in den tiefen Kontakt mit sich selbst zu treten\, nutzen wir in den richtigen Phasen die Kraft des Mondes. Bei einem Neumondritual beispielsweise wird der Blick mit Hilfe des Sounds der Klangschalen nach Innen gerichtet\, um danach gestärkt die bevorstehende Mondphase zu beginnen. \nTUNE IN AND ZOOM OUT \nDas Sound Bath findet in einer angenehmen liegenden Position statt. Es ist eine tolle Gelegenheit dem Kopf Leerlauf zu gönnen und Stress vor der Tür zu lassen. \nWir freuen uns auf auf dich!
URL:https://www.rootsyoga.de/yoga-event/sound-bath-vor-ort-2/
LOCATION:Roots Yoga Studio\, Mittelweg 146\, Hamburg\, 20148\, Deutschland
CATEGORIES:Event,Soundbath
ATTACH;FMTTYPE=image/jpeg:https://www.rootsyoga.de/wp-content/uploads/2025/03/Soundbath-und-Yoga-Nidra-mit-Lou.jpg
END:VEVENT
END:VCALENDAR