BEGIN:VCALENDAR
VERSION:2.0
PRODID:-//RootsYoga - ECPv6.15.14//NONSGML v1.0//EN
CALSCALE:GREGORIAN
METHOD:PUBLISH
X-WR-CALNAME:RootsYoga
X-ORIGINAL-URL:https://www.rootsyoga.de
X-WR-CALDESC:Veranstaltungen für RootsYoga
REFRESH-INTERVAL;VALUE=DURATION:PT1H
X-Robots-Tag:noindex
X-PUBLISHED-TTL:PT1H
BEGIN:VTIMEZONE
TZID:Europe/Berlin
BEGIN:DAYLIGHT
TZOFFSETFROM:+0100
TZOFFSETTO:+0200
TZNAME:CEST
DTSTART:20240331T010000
END:DAYLIGHT
BEGIN:STANDARD
TZOFFSETFROM:+0200
TZOFFSETTO:+0100
TZNAME:CET
DTSTART:20241027T010000
END:STANDARD
BEGIN:DAYLIGHT
TZOFFSETFROM:+0100
TZOFFSETTO:+0200
TZNAME:CEST
DTSTART:20250330T010000
END:DAYLIGHT
BEGIN:STANDARD
TZOFFSETFROM:+0200
TZOFFSETTO:+0100
TZNAME:CET
DTSTART:20251026T010000
END:STANDARD
BEGIN:DAYLIGHT
TZOFFSETFROM:+0100
TZOFFSETTO:+0200
TZNAME:CEST
DTSTART:20260329T010000
END:DAYLIGHT
BEGIN:STANDARD
TZOFFSETFROM:+0200
TZOFFSETTO:+0100
TZNAME:CET
DTSTART:20261025T010000
END:STANDARD
END:VTIMEZONE
BEGIN:VEVENT
DTSTART;TZID=Europe/Berlin:20251121T183000
DTEND;TZID=Europe/Berlin:20251121T200000
DTSTAMP:20260421T044233
CREATED:20250925T142638Z
LAST-MODIFIED:20250925T142638Z
UID:10000220-1763749800-1763755200@www.rootsyoga.de
SUMMARY:Jivamukti Open mit Moritz (VOR ORT)
DESCRIPTION:Eine Jivamukti Open Klasse beinhaltet dynamische und physisch herausfordernde Vinyasa Sequenzen\, bewusste Führung des Atems – unterstützt von den Anleitungen und Assists des Lehrers. Die Yogahaltungen (Asanas) haben dabei unterschiedliche Schwierigkeitsgrade für Beginner und Fortgeschrittene. In jeder Open Stunde wird Musik gespielt\, werden traditionelle Schriften rezitiert\, gemeinsam Mantra gesungen (gechantet) und meditiert. \nIn der Open Class\, wie sie auch genannt wird\, werden klassische Yoga-Lehren aufgegriffen und für unser modernes Leben verständlich gemacht. Die Inspirationen dazu liefert der Focus of the Month (Fokus des Monats) – ein Essay\, der monatlich erscheint und jeweils von einer:m Senior-Lehrer:in der Jivamukti Methode geschrieben worden ist. Die Jivamukti Open Klassen sind für jede/jeden geeignet\, egal ob du seit 20 Jahren praktizierst\, oder dich dein Weg gerade erst zum Yoga geführt hat. \nStornierungsregeln für Klassen bei Roots Yoga \n\nKlassen können bis zu 12 Stunden vor Beginn storniert werden. In diesem Fall wird die Klasse als Guthaben auf deinem Account gutgeschrieben.\nEine Rückerstattung des Geldes ist nicht möglich – das Guthaben kann jedoch für zukünftige Buchungen genutzt werden.\nNach Abschluss der Buchung ist eine Rückerstattung ausgeschlossen – unabhängig vom Grund der Stornierung.\nBuchungen sind nicht auf Dritte übertragbar und können nur vom ursprünglichen Käufer genutzt werden.\n\nFalls du noch Fragen hast\, melde dich gerne bei uns: support@rootsyoga.de. \n  \n  \n 
URL:https://www.rootsyoga.de/yoga-event/jivamukti-open-mit-moritz-vor-ort/
CATEGORIES:Event,Special Guests
ATTACH;FMTTYPE=image/jpeg:https://www.rootsyoga.de/wp-content/uploads/2023/12/2023-moritz_4844_©pavelbecker.jpg
END:VEVENT
BEGIN:VEVENT
DTSTART;TZID=Europe/Berlin:20251121T183000
DTEND;TZID=Europe/Berlin:20251121T200000
DTSTAMP:20260421T044233
CREATED:20250925T142905Z
LAST-MODIFIED:20250925T142905Z
UID:10000221-1763749800-1763755200@www.rootsyoga.de
SUMMARY:Jivamukti Open mit Moritz (ONLINE)
DESCRIPTION:Eine Jivamukti Open Klasse beinhaltet dynamische und physisch herausfordernde Vinyasa Sequenzen\, bewusste Führung des Atems – unterstützt von den Anleitungen und Assists des Lehrers. Die Yogahaltungen (Asanas) haben dabei unterschiedliche Schwierigkeitsgrade für Beginner und Fortgeschrittene. In jeder Open Stunde wird Musik gespielt\, werden traditionelle Schriften rezitiert\, gemeinsam Mantra gesungen (gechantet) und meditiert. \nIn der Open Class\, wie sie auch genannt wird\, werden klassische Yoga-Lehren aufgegriffen und für unser modernes Leben verständlich gemacht. Die Inspirationen dazu liefert der Focus of the Month (Fokus des Monats) – ein Essay\, der monatlich erscheint und jeweils von einer:m Senior-Lehrer:in der Jivamukti Methode geschrieben worden ist. Die Jivamukti Open Klassen sind für jede/jeden geeignet\, egal ob du seit 20 Jahren praktizierst\, oder dich dein Weg gerade erst zum Yoga geführt hat. \nDiese Klasse bietet weniger fein detaillierte Anleitungen zu der Asana-Praxis\, als eine Jivamukti Easy Klasse. Diese ist übrigens nicht nur für Beginner\, sondern auch für fortgeschrittene Yogis\, die ihre Asana-Praxis verfeinern wollen eine gute Alternative. \nStornierungsregeln für Klassen bei Roots Yoga \n\nKlassen können bis zu 12 Stunden vor Beginn storniert werden. In diesem Fall wird die Klasse als Guthaben auf deinem Account gutgeschrieben.\nEine Rückerstattung des Geldes ist nicht möglich – das Guthaben kann jedoch für zukünftige Buchungen genutzt werden.\nNach Abschluss der Buchung ist eine Rückerstattung ausgeschlossen – unabhängig vom Grund der Stornierung.\nBuchungen sind nicht auf Dritte übertragbar und können nur vom ursprünglichen Käufer genutzt werden.\n\nFalls du noch Fragen hast\, melde dich gerne bei uns: support@rootsyoga.de. \n  \n 
URL:https://www.rootsyoga.de/yoga-event/jivamukti-open-mit-moritz-online/
CATEGORIES:Event,Online,Special Guests
ATTACH;FMTTYPE=image/jpeg:https://www.rootsyoga.de/wp-content/uploads/2023/12/2023-moritz_4844_©pavelbecker.jpg
END:VEVENT
BEGIN:VEVENT
DTSTART;TZID=Europe/Berlin:20251122T140000
DTEND;TZID=Europe/Berlin:20251122T183000
DTSTAMP:20260421T044233
CREATED:20250907T191935Z
LAST-MODIFIED:20251120T122157Z
UID:10000216-1763820000-1763836200@www.rootsyoga.de
SUMMARY:Hands-On Assists Workshop mit Moritz
DESCRIPTION:Hands-On Assists: Vertiefe deine Praxis und deine Kunst des Assistierens \nIn diesem praxisorientierten Workshop tauchen wir gemeinsam tief in die Welt der Hands-On Assists ein. Du bekommst die Möglichkeit\, nicht nur dein Verständnis für die feinen Nuancen der Asana-Ausrichtung zu schärfen\, sondern auch deine Fähigkeiten als Yogalehrender oder fortgeschrittener Praktizierende*r auf ein neues Level zu bringen. \nDer Workshop ist in zwei Teile aufgeteilt\, die aufeinander aufbauen. Zwischen den beiden Teilen gibt es eine Pause von 16-17:30Uhr. \nWas dich erwartet: \nNeue Perspektiven auf Asanas \nJeder Workshop widmet sich einer Auswahl verschiedener Asanas – ideal\, auch wenn du schon einmal dabei warst! Es gibt immer Neues zu entdecken\, zu üben und zu verfeinern. Gemeinsam erforschen wir ein breites Spektrum an Assists\, die du direkt mit anderen Teilnehmenden ausprobieren kannst. \nVerständnis von Alignment \nEin gutes Assist beginnt mit einem tiefen Verständnis der Ausrichtung. Wir nehmen uns Zeit\, die Prinzipien des Alignments ausgewählter Asanas genau zu erforschen – mit Fokus auf deinem eigenen Erleben. Durch praktische Übungen und Selbstreflexion lernst du\, wie du deine Assists noch präziser und wirkungsvoller gestalten kannst. \nPraktisches Lernen und Erleben \nDieser Workshop ist zu 100 % praxisorientiert. Wir arbeiten mit interaktiven Übungen\, Demonstrationen und direktem Austausch\, damit du alles Gelernte unmittelbar umsetzen kannst. Und natürlich ist Raum für deine Fragen – ich teile gerne mein Wissen mit dir! \nFür wen ist der Workshop geeignet? \n • Yogalehrende\, die ihre Fähigkeiten im Hands-On Assisting erweitern möchten. \n• Fortgeschrittene Praktizierende\, die ein tieferes Verständnis von Asana-Ausrichtung und Assist-Techniken suchen. \n• Alle\, die Lust haben\, ihre Praxis aus einer neuen Perspektive zu erleben und zu wachsen. \nDeine Wünsche zählen \nHast du Asanas\, die dir besonders am Herzen liegen oder die du gerne intensiver beleuchten möchtest? Teile uns gerne vorab deine Wünsche per Email an hello@rootsyoga.de mit! \nMoritz integriert sie nach Möglichkeit in den Workshop\, damit er für dich maximal wertvoll ist. \nDieser Workshop ist eine Einladung\, deine Assists mit neuer Klarheit und Sicherheit zu gestalten – und dabei deine eigene Praxis zu vertiefen. Es geht nicht nur darum\, Techniken zu lernen\, sondern auch darum\, einfühlsamer und bewusster zu unterrichten
URL:https://www.rootsyoga.de/yoga-event/hands-on-assists-workshop-mit-moritz/
CATEGORIES:Masterclass,Special Guests,Workshops
ATTACH;FMTTYPE=image/jpeg:https://www.rootsyoga.de/wp-content/uploads/2023/03/2023-moritz_5637_©pavelbecker.jpg
END:VEVENT
BEGIN:VEVENT
DTSTART;TZID=Europe/Berlin:20251123T150000
DTEND;TZID=Europe/Berlin:20251123T160000
DTSTAMP:20260421T044233
CREATED:20251007T140259Z
LAST-MODIFIED:20251007T140259Z
UID:10000234-1763910000-1763913600@www.rootsyoga.de
SUMMARY:Sound Bath (VOR ORT)
DESCRIPTION:Eine Klangmeditation mit Kristallschalen hat auf unseren gesamtem Organismus eine heilende und entspannende Wirkung. Der pure Sound dieser Klangschalen ist in der Lage\, sowohl physisch als auch energetisch unsere Blockaden zu lockern und dadurch Platz für Heilung entstehen zu lassen. Die verschiedenen Vibrationen der Schalen haben durch ihre Zusammensetzung die Fähigkeit unser Unterbewusstsein aufzuwecken. \nBEI MONDPHASEN: Um in den tiefen Kontakt mit sich selbst zu treten\, nutzen wir in den richtigen Phasen die Kraft des Mondes. Bei einem Neumondritual beispielsweise wird der Blick mit Hilfe des Sounds der Klangschalen nach Innen gerichtet\, um danach gestärkt die bevorstehende Mondphase zu beginnen. \nTUNE IN AND ZOOM OUT \nDas Sound Bath findet in einer angenehmen liegenden Position statt. Es ist eine tolle Gelegenheit dem Kopf Leerlauf zu gönnen und Stress vor der Tür zu lassen. \nWir freuen uns auf auf dich!
URL:https://www.rootsyoga.de/yoga-event/sound-bath-vor-ort-3/
LOCATION:Roots Yoga Studio\, Mittelweg 146\, Hamburg\, 20148\, Deutschland
CATEGORIES:Event,Soundbath
ATTACH;FMTTYPE=image/jpeg:https://www.rootsyoga.de/wp-content/uploads/2025/03/Soundbath-und-Yoga-Nidra-mit-Lou.jpg
END:VEVENT
END:VCALENDAR